BEGIN:VCALENDAR
VERSION:2.0
PRODID:-//What&#039;s Up in Wells - ECPv6.15.20//NONSGML v1.0//EN
CALSCALE:GREGORIAN
METHOD:PUBLISH
X-ORIGINAL-URL:https://whatsupinwells.com
X-WR-CALDESC:Events for What&#039;s Up in Wells
REFRESH-INTERVAL;VALUE=DURATION:PT1H
X-Robots-Tag:noindex
X-PUBLISHED-TTL:PT1H
BEGIN:VTIMEZONE
TZID:America/Vancouver
BEGIN:DAYLIGHT
TZOFFSETFROM:-0800
TZOFFSETTO:-0700
TZNAME:PDT
DTSTART:20220313T100000
END:DAYLIGHT
BEGIN:STANDARD
TZOFFSETFROM:-0700
TZOFFSETTO:-0800
TZNAME:PST
DTSTART:20221106T090000
END:STANDARD
BEGIN:DAYLIGHT
TZOFFSETFROM:-0800
TZOFFSETTO:-0700
TZNAME:PDT
DTSTART:20230312T100000
END:DAYLIGHT
BEGIN:STANDARD
TZOFFSETFROM:-0700
TZOFFSETTO:-0800
TZNAME:PST
DTSTART:20231105T090000
END:STANDARD
BEGIN:DAYLIGHT
TZOFFSETFROM:-0800
TZOFFSETTO:-0700
TZNAME:PDT
DTSTART:20240310T100000
END:DAYLIGHT
BEGIN:STANDARD
TZOFFSETFROM:-0700
TZOFFSETTO:-0800
TZNAME:PST
DTSTART:20241103T090000
END:STANDARD
END:VTIMEZONE
BEGIN:VEVENT
DTSTART;TZID=America/Vancouver:20230902T100000
DTEND;TZID=America/Vancouver:20230902T140000
DTSTAMP:20260423T114815
CREATED:20230728T162831Z
LAST-MODIFIED:20230728T162831Z
UID:10001312-1693648800-1693663200@whatsupinwells.com
SUMMARY:Artist Bookmaking with Cat Sivertsen
DESCRIPTION:September 2nd\, 2023 \n10 a.m – 2 p.m \nAges 13+ \nRegister by August 19th. \nPay what you can + Mandatory $15.00 Materials Fee (suggested $35.00 total) \nAn artist’s book is a book created by an artist and not a biography of an artist. It is experimental in media and could tell a story or maybe not\, it is always beautiful\, unique\, and relevant to the maker and\, of course\, the reader. \nworkshop in connection to IMA’s exhibition of Cat’s work ‘Sensibilities of Place’. This workshop is about how to create an artist’s book using a variety of materials and framed within the notion of ‘sensibilities of place’ – your place. \nThe workshop begins at the hardest part and that is… getting started! The focus of this workshop is to learn how to dispel that creative tension by tapping into some of Cat’s ‘tricks of the trade’ based on accessible materials being used in magical ways: drawing\, printmaking\, collage\, and simple writing processes. The goal is to get marks onto the paper thus helping you realize your story. Yes\, you will take home an artist’s book that expresses your sense of place\, and you will also take away a bevy of tricks to fuel your creative endeavours at home. \nJoin Cat for an enjoyable morning of material exploration\, a bit of storytelling\, and lots of laughter through creativity. All materials are included and pre-registration is required as seats are limited. No experience necessary – bring a picnic lunch and an open heart to play.
URL:https://whatsupinwells.com/event/artist-bookmaking-with-cat-sivertsen/
LOCATION:BC
CATEGORIES:Arts,Wells
ATTACH;FMTTYPE=image/jpeg:https://whatsupinwells.com/wp-content/uploads/2023/07/unnamed-2.jpg
END:VEVENT
BEGIN:VEVENT
DTSTART;TZID=America/Vancouver:20230903T180000
DTEND;TZID=America/Vancouver:20230903T190000
DTSTAMP:20260423T114815
CREATED:20230810T152231Z
LAST-MODIFIED:20230810T152232Z
UID:10001019-1693764000-1693767600@whatsupinwells.com
SUMMARY:Rock Talks with Last Ditch Mining
DESCRIPTION:Join local miner and and geological enthusiastic Ian Douglas of Last Ditch Mining for a show and tell of rock samples and old stories from the region’s vast geological territory. Every second Sunday\, 6pm – 7pm in the Wells Hotel Lounge. Admission by donation. Minors must be accompanied by an adult guardian. \nJuly 16th\, July 30th\, August 13\, August 27 \nLearn more about Last Ditch Mining at lastditchmining.ca
URL:https://whatsupinwells.com/event/rock-talks-with-last-ditch-mining-3/
LOCATION:The Wells Hotel\, 2341 Pooley St.\, Wells\, BC\, V0k2R0\, Canada
CATEGORIES:Education,Free,Wells
ATTACH;FMTTYPE=image/jpeg:https://whatsupinwells.com/wp-content/uploads/2023/07/rock-talks.jpg
END:VEVENT
BEGIN:VEVENT
DTSTART;TZID=America/Vancouver:20230908T200000
DTEND;TZID=America/Vancouver:20230908T213000
DTSTAMP:20260423T114815
CREATED:20230628T145329Z
LAST-MODIFIED:20230628T145329Z
UID:10001010-1694203200-1694208600@whatsupinwells.com
SUMMARY:Jake's Gift
DESCRIPTION:Jake’s Gift returns to the Sunset Theatre stage this summer on Saturday\, July 15th and Friday\, September 8th. This multi-award winning play is written and performed by Julia Mackey and Directed by Dirk Van Stralen. It was one of three plays to come out of our inaugural Exploration Series in 2006. \nSynopsis: \nJake’s Gift is a surprisingly funny drama about a Canadian WW2 veteran’s reluctant return to Normandy for the 60th Anniversary of D-Day. \nWhile revisiting the shores of Juno beach\, Jake encounters Isabelle\, a precocious 10-year-old from the local village. Isabelle’s inquisitive nature and charm challenge the old soldier to confront some long-ignored ghosts – most notably the war-time death of his eldest brother\, Chester\, a once promising young musician. \nAt its heart\, Jake’s Gift is about the legacy of remembrance and makes personal the story behind one soldier’s grave. \nWritten & Performed by Julia Mackey \nDirected by Dirk Van Stralen \nwww.jakesgift.com \nThe show is 1 Act and runs 65 minutes with no intermission. \nTickets are $20 for Adults\, $18 for Sunset Theatre Members and $10 for Teens and Kids. The play is recommended for Ages 10 +
URL:https://whatsupinwells.com/event/jakes-gift-2/2023-09-08/
LOCATION:Sunset Theatre\, 2357 Pooley St.\, Wells\, BC\, v0k2r0\, Canada
CATEGORIES:Theatre,Wells
ATTACH;FMTTYPE=image/jpeg:https://whatsupinwells.com/wp-content/uploads/2023/06/jakes-gitf.jpg
END:VEVENT
BEGIN:VEVENT
DTSTART;TZID=America/Vancouver:20230910T150000
DTEND;TZID=America/Vancouver:20230910T220000
DTSTAMP:20260423T114815
CREATED:20230829T145832Z
LAST-MODIFIED:20230829T145832Z
UID:10001359-1694358000-1694383200@whatsupinwells.com
SUMMARY:End of Season Block Party
DESCRIPTION:We’re excited to celebrate a fantastic visitor season and thank all the workers who’ve made it possible by closing down Pooley Street in front of the Hotel and setting up for a community block party to coincide with Barkerville Historic Town & Park’s last operating day of the season. \nIsland Mountain Arts\, Sunset Theatre\, Morsels Moveable Feast\, and The Wells Hotel will be coming up with some creative contributions to the event\, and we hope you might too! Got some yard games you could bring? A propane fire pit? Want to play a little music or host and activity? Please do! Send me or the Hotel a message if you’ve got something you’d like to contribute. \nThis is an all-ages event\, and all are welcome. Open alcohol is not permitted in the street or park but the Wells Hotel and Sunset Theatre bars will be open for service in their licensed areas
URL:https://whatsupinwells.com/event/end-of-season-block-party/
LOCATION:BC
CATEGORIES:Food,Free,Music,Outdoor Recreation,Wells
ATTACH;FMTTYPE=image/jpeg:https://whatsupinwells.com/wp-content/uploads/2023/08/block-party.jpg
END:VEVENT
BEGIN:VEVENT
DTSTART;TZID=America/Vancouver:20230910T190000
DTEND;TZID=America/Vancouver:20230910T210000
DTSTAMP:20260423T114815
CREATED:20230728T163647Z
LAST-MODIFIED:20230728T163719Z
UID:10001317-1694372400-1694379600@whatsupinwells.com
SUMMARY:Trivia Night: the Wells of Knowledge
DESCRIPTION:Join us for weekly trivia hosted by local writer\, actor\, and generally entertaining guy\, Ryan Schmitt.
URL:https://whatsupinwells.com/event/trivia-night-the-wells-of-knowledge-5/2023-09-10/
LOCATION:The Wells Hotel\, 2341 Pooley St.\, Wells\, BC\, V0k2R0\, Canada
CATEGORIES:Education,Free,Theatre,Wells
ATTACH;FMTTYPE=image/jpeg:https://whatsupinwells.com/wp-content/uploads/2023/05/trivia-night.jpg
END:VEVENT
BEGIN:VEVENT
DTSTART;TZID=America/Vancouver:20230916T170000
DTEND;TZID=America/Vancouver:20230916T233000
DTSTAMP:20260423T114815
CREATED:20230818T054712Z
LAST-MODIFIED:20230818T054712Z
UID:10001349-1694883600-1694907000@whatsupinwells.com
SUMMARY:A Bloody Good Bash
DESCRIPTION:
URL:https://whatsupinwells.com/event/a-bloody-good-bash-2/
LOCATION:Troll Ski Resort\, Barkerville Hwy 27 E.\, BC\, Canada
CATEGORIES:Food,Music,Outdoor Recreation,Troll,Wells
ATTACH;FMTTYPE=image/jpeg:https://whatsupinwells.com/wp-content/uploads/2023/08/a-bloody-good-bash.jpg
END:VEVENT
BEGIN:VEVENT
DTSTART;TZID=America/Vancouver:20230916T210000
DTEND;TZID=America/Vancouver:20230917T020000
DTSTAMP:20260423T114815
CREATED:20230916T200758Z
LAST-MODIFIED:20230916T200758Z
UID:10001363-1694898000-1694916000@whatsupinwells.com
SUMMARY:Karaoke Night
DESCRIPTION:Every Saturday from 9 pm to 2 am
URL:https://whatsupinwells.com/event/karaoke-night-3/2023-09-16/
LOCATION:Jack O’ Club Restaurant & Pub\, 12383 Hwy 27 E.\, Wells\, BC\, V0K2R0\, Canada
CATEGORIES:19+,Music,Wells
ATTACH;FMTTYPE=image/jpeg:https://whatsupinwells.com/wp-content/uploads/2023/07/karaokee.jpg
END:VEVENT
BEGIN:VEVENT
DTSTART;TZID=America/Vancouver:20230917T100000
DTEND;TZID=America/Vancouver:20230917T140000
DTSTAMP:20260423T114815
CREATED:20230916T201051Z
LAST-MODIFIED:20230916T201051Z
UID:10001625-1694944800-1694959200@whatsupinwells.com
SUMMARY:Pathways to Preparedness
DESCRIPTION:The Pathways to Preparedness project\, funded by the Canadian Red Cross\, has been created to measure the current state of residents’ flood and wildfire risk and preparation awareness while also improving general preparedness through education. \nLook for a representative this weekend on…\nSaturday at:\nBarlow Creek Fire Department Open House – 11 a.m. to 2 p.m.\nCottonwood Transfer Station – 2:30 to 4:30 p.m. \nSunday at:\nWells Transfer Station – 10 a.m. to 12 p.m. \nCome with questions and curiosity\, we’re here to discuss your pathway to preparedness for emergencies. We’ll have information to give you as well as we look forward to learning from you. \nLearn more: www.cariboord.ca/pathways
URL:https://whatsupinwells.com/event/pathways-to-preparedness/
LOCATION:BC
CATEGORIES:Education,Free,Wells
ATTACH;FMTTYPE=image/jpeg:https://whatsupinwells.com/wp-content/uploads/2023/09/pathways-to-prepardenss.jpg
END:VEVENT
BEGIN:VEVENT
DTSTART;TZID=America/Vancouver:20230923T210000
DTEND;TZID=America/Vancouver:20230924T020000
DTSTAMP:20260423T114815
CREATED:20230916T200758Z
LAST-MODIFIED:20230916T200758Z
UID:10001364-1695502800-1695520800@whatsupinwells.com
SUMMARY:Karaoke Night
DESCRIPTION:Every Saturday from 9 pm to 2 am
URL:https://whatsupinwells.com/event/karaoke-night-3/2023-09-23/
LOCATION:Jack O’ Club Restaurant & Pub\, 12383 Hwy 27 E.\, Wells\, BC\, V0K2R0\, Canada
CATEGORIES:19+,Music,Wells
ATTACH;FMTTYPE=image/jpeg:https://whatsupinwells.com/wp-content/uploads/2023/07/karaokee.jpg
END:VEVENT
BEGIN:VEVENT
DTSTART;TZID=America/Vancouver:20230928T190000
DTEND;TZID=America/Vancouver:20230928T210000
DTSTAMP:20260423T114815
CREATED:20230911T181606Z
LAST-MODIFIED:20230911T181606Z
UID:10001360-1695927600-1695934800@whatsupinwells.com
SUMMARY:Semi Athletic at the Wells Hotel
DESCRIPTION:Wells! Semi Athletic will be Trying Hard at The Wells Hotel soon – save the date and come on out! Presented by Island Mountain Arts.
URL:https://whatsupinwells.com/event/semi-athletic-at-the-wells-hotel/
LOCATION:The Wells Hotel\, 2341 Pooley St.\, Wells\, BC\, V0k2R0\, Canada
CATEGORIES:Arts,Music,Wells
ATTACH;FMTTYPE=image/jpeg:https://whatsupinwells.com/wp-content/uploads/2023/09/semi-athletic.jpg
END:VEVENT
BEGIN:VEVENT
DTSTART;TZID=America/Vancouver:20230928T200000
DTEND;TZID=America/Vancouver:20230928T213000
DTSTAMP:20260423T114815
CREATED:20230823T202945Z
LAST-MODIFIED:20230829T145456Z
UID:10001357-1695931200-1695936600@whatsupinwells.com
SUMMARY:Destiny USA
DESCRIPTION:If you are searching for relief from modern cynicism and despair\, look no further than Destiny\, USA – The UBYSSEY\, Vancouver \n‍‍When Laura moved from Toronto to Syracuse\, New York\, she wasn’t expecting to be residing in Trump’s America. \nGaining her first job as a relay operator for the Deaf and Hard of Hearing causes her to question whether she can discover the hidden humanity of the American people. Destiny\, USA by Laura Anne Harris beautifully weaves together three poignant and personal stories: her move to Syracuse\, NY to be with her new husband as he pursues his PhD\, her attempt to deal with her mother’s illness in Canada while living in Trump’s America\, and her enlightening new job as a relay operator for the Deaf and Hard of Hearing. \nWhile this is mainly autobiographical\, some details have been changed to protect the anonymity of the Deaf callers. \nThe performance integrates partial closed captioning and features performances from three Canadian Deaf actors: Tamyka Bullen\, Natasha Bacchus\, and Sage Lovell through ASL video projection. \nWRITTEN & PERFORMED BY‍ \nLaura Anne Harris \nVIDEO APPEARANCES BY ‍ \nNatasha Bacchus\nTamyka Bullen\nSage Lovell \n‍CREATIVE TEAM \nDIRECTOR\nKrystal Osborne \nPLAYWRIGHT\nLaura Anne Harris \nASL CONSULTANT\nKat Campbell \nPROJECTION / CAPTIONING DESIGN\nMatthew Koutzun \nSOUND DESIGN\nAlex Eddington
URL:https://whatsupinwells.com/event/destiny-usa/2023-09-28/
LOCATION:Sunset Theatre\, 2357 Pooley St.\, Wells\, BC\, v0k2r0\, Canada
CATEGORIES:Arts,Theatre,Wells
ATTACH;FMTTYPE=image/png:https://whatsupinwells.com/wp-content/uploads/2023/08/DestinyUSAsept29-302023.png
END:VEVENT
BEGIN:VEVENT
DTSTART;TZID=America/Vancouver:20230929T200000
DTEND;TZID=America/Vancouver:20230929T213000
DTSTAMP:20260423T114815
CREATED:20230823T202945Z
LAST-MODIFIED:20230829T145456Z
UID:10001358-1696017600-1696023000@whatsupinwells.com
SUMMARY:Destiny USA
DESCRIPTION:If you are searching for relief from modern cynicism and despair\, look no further than Destiny\, USA – The UBYSSEY\, Vancouver \n‍‍When Laura moved from Toronto to Syracuse\, New York\, she wasn’t expecting to be residing in Trump’s America. \nGaining her first job as a relay operator for the Deaf and Hard of Hearing causes her to question whether she can discover the hidden humanity of the American people. Destiny\, USA by Laura Anne Harris beautifully weaves together three poignant and personal stories: her move to Syracuse\, NY to be with her new husband as he pursues his PhD\, her attempt to deal with her mother’s illness in Canada while living in Trump’s America\, and her enlightening new job as a relay operator for the Deaf and Hard of Hearing. \nWhile this is mainly autobiographical\, some details have been changed to protect the anonymity of the Deaf callers. \nThe performance integrates partial closed captioning and features performances from three Canadian Deaf actors: Tamyka Bullen\, Natasha Bacchus\, and Sage Lovell through ASL video projection. \nWRITTEN & PERFORMED BY‍ \nLaura Anne Harris \nVIDEO APPEARANCES BY ‍ \nNatasha Bacchus\nTamyka Bullen\nSage Lovell \n‍CREATIVE TEAM \nDIRECTOR\nKrystal Osborne \nPLAYWRIGHT\nLaura Anne Harris \nASL CONSULTANT\nKat Campbell \nPROJECTION / CAPTIONING DESIGN\nMatthew Koutzun \nSOUND DESIGN\nAlex Eddington
URL:https://whatsupinwells.com/event/destiny-usa/2023-09-29/
LOCATION:Sunset Theatre\, 2357 Pooley St.\, Wells\, BC\, v0k2r0\, Canada
CATEGORIES:Arts,Theatre,Wells
ATTACH;FMTTYPE=image/png:https://whatsupinwells.com/wp-content/uploads/2023/08/DestinyUSAsept29-302023.png
END:VEVENT
BEGIN:VEVENT
DTSTART;TZID=America/Vancouver:20230930T210000
DTEND;TZID=America/Vancouver:20231001T020000
DTSTAMP:20260423T114815
CREATED:20230916T200758Z
LAST-MODIFIED:20230916T200758Z
UID:10001365-1696107600-1696125600@whatsupinwells.com
SUMMARY:Karaoke Night
DESCRIPTION:Every Saturday from 9 pm to 2 am
URL:https://whatsupinwells.com/event/karaoke-night-3/2023-09-30/
LOCATION:Jack O’ Club Restaurant & Pub\, 12383 Hwy 27 E.\, Wells\, BC\, V0K2R0\, Canada
CATEGORIES:19+,Music,Wells
ATTACH;FMTTYPE=image/jpeg:https://whatsupinwells.com/wp-content/uploads/2023/07/karaokee.jpg
END:VEVENT
END:VCALENDAR