BEGIN:VCALENDAR
VERSION:2.0
PRODID:-//What&#039;s Up in Wells - ECPv6.15.20//NONSGML v1.0//EN
CALSCALE:GREGORIAN
METHOD:PUBLISH
X-ORIGINAL-URL:https://whatsupinwells.com
X-WR-CALDESC:Events for What&#039;s Up in Wells
REFRESH-INTERVAL;VALUE=DURATION:PT1H
X-Robots-Tag:noindex
X-PUBLISHED-TTL:PT1H
BEGIN:VTIMEZONE
TZID:America/Vancouver
BEGIN:DAYLIGHT
TZOFFSETFROM:-0800
TZOFFSETTO:-0700
TZNAME:PDT
DTSTART:20220313T100000
END:DAYLIGHT
BEGIN:STANDARD
TZOFFSETFROM:-0700
TZOFFSETTO:-0800
TZNAME:PST
DTSTART:20221106T090000
END:STANDARD
BEGIN:DAYLIGHT
TZOFFSETFROM:-0800
TZOFFSETTO:-0700
TZNAME:PDT
DTSTART:20230312T100000
END:DAYLIGHT
BEGIN:STANDARD
TZOFFSETFROM:-0700
TZOFFSETTO:-0800
TZNAME:PST
DTSTART:20231105T090000
END:STANDARD
BEGIN:DAYLIGHT
TZOFFSETFROM:-0800
TZOFFSETTO:-0700
TZNAME:PDT
DTSTART:20240310T100000
END:DAYLIGHT
BEGIN:STANDARD
TZOFFSETFROM:-0700
TZOFFSETTO:-0800
TZNAME:PST
DTSTART:20241103T090000
END:STANDARD
END:VTIMEZONE
BEGIN:VEVENT
DTSTART;TZID=America/Vancouver:20231101T080000
DTEND;TZID=America/Vancouver:20231119T180000
DTSTAMP:20260423T083321
CREATED:20231106T003454Z
LAST-MODIFIED:20231106T004001Z
UID:10001657-1698825600-1700416800@whatsupinwells.com
SUMMARY:Island Mountain Arts Online Auction
DESCRIPTION:Our 2023 Online Fundraiser is upon us! \nIMA has brought together art\, experiences\, accommodations\, instruments and more thorough generous support from friends in the community. All together\, this eclectic collection we’ve put together makes up our 2023 Online Auction Fundraiser! \nThis auction will begin on November 1st and run until 6:00 PM PST on November 19th. \nWe’ll be adding new items and sharing some fun details regularly throughout the next 3 weeks. Keep you eyes peeled!\nAlso\, it’s not too late to support our auction! If you have a prize you’d like to donate\, feel free to get in touch with Elyssia Sasaki (elyssia@imarts.com) \nThis slide features are from Pnina Granirer\, Esther Colton\, Frederick J. Brown\, David Alexander\, William Featherston\, Susan Bissett and Barkerville Brewing. \nCheck it out at\nhttps://www.32auctions.com/2023IMA
URL:https://whatsupinwells.com/event/island-mountain-arts-online-auction/
LOCATION:BC
CATEGORIES:Arts,Wells
ATTACH;FMTTYPE=image/jpeg:https://whatsupinwells.com/wp-content/uploads/2023/11/online-auction.jpg
END:VEVENT
BEGIN:VEVENT
DTSTART;TZID=America/Vancouver:20231106T174500
DTEND;TZID=America/Vancouver:20231106T201500
DTSTAMP:20260423T083321
CREATED:20231106T001316Z
LAST-MODIFIED:20231106T001345Z
UID:10001645-1699292700-1699301700@whatsupinwells.com
SUMMARY:Winter Hip-Hop Classes
DESCRIPTION:Happy November! \nWinter hip-hop is back again with Tyler Burnson!\nJoin us every second Monday! Must register in advance! \nThis class serves as an introduction to Hip Hop Dance Styles\, where we build weekly on choreography! \nThere are 3 fee tiers you can choose from! Visit island-mountain-arts.square.site for more information! \n\nSuggested Fee: $60.00 – 80.00+GST – This rate is made possible through support from the Province of British Columbia\nSustaining Fee: $162.00+GST – This would be the cost of the program if IMA received no grants from the province.\nPay What You Can at the Door – We want you to take part\, but you do need to register in advance!\n\nWith instructor Tyler Burnson.\n8 classes total! Max 10 Participants!\nTIME: Every Second Monday\nAges 6 – 12 from 5:45 – 6:45\nAges 18+ from 7:00 PM – 8:15 PM\nMonday\, Nov 06\nMonday\, Nov 20\nMonday\, Dec 04\nMonday\, Dec 18\nTUESDAY\, Jan 02 (Moved due to New Years)\nMonday\, Jan 15\nMonday\, Jan 29\nMonday\, Feb 12
URL:https://whatsupinwells.com/event/winter-hip-hop-vclasses/2023-11-06/
LOCATION:Wells Community Hall\, 4269 Sanders Ave\, Wells\, BC\, V0K2R0\, Canada
CATEGORIES:Arts,Education,Music,Wells
ATTACH;FMTTYPE=image/jpeg:https://whatsupinwells.com/wp-content/uploads/2023/11/winter-hip-hop.jpg
END:VEVENT
BEGIN:VEVENT
DTSTART;TZID=America/Vancouver:20231111T210000
DTEND;TZID=America/Vancouver:20231112T020000
DTSTAMP:20260423T083321
CREATED:20231021T202126Z
LAST-MODIFIED:20231021T202127Z
UID:10001371-1699736400-1699754400@whatsupinwells.com
SUMMARY:Karaoke Night
DESCRIPTION:Every Saturday from 9 pm to 2 am
URL:https://whatsupinwells.com/event/karaoke-night-3-2/2023-11-11/
LOCATION:Jack O’ Club Restaurant & Pub\, 12383 Hwy 27 E.\, Wells\, BC\, V0K2R0\, Canada
CATEGORIES:19+,Music,Wells
ATTACH;FMTTYPE=image/jpeg:https://whatsupinwells.com/wp-content/uploads/2023/07/karaokee.jpg
END:VEVENT
BEGIN:VEVENT
DTSTART;TZID=America/Vancouver:20231113T120000
DTEND;TZID=America/Vancouver:20231113T140000
DTSTAMP:20260423T083321
CREATED:20231106T001630Z
LAST-MODIFIED:20231106T001630Z
UID:10001653-1699876800-1699884000@whatsupinwells.com
SUMMARY:Soup's On! Happy 89th Birthday Wells Hotel
DESCRIPTION:Join us for a free soup luncheon and open house Monday\, November 13th from 12 pm to 2 pm to mark the 89th birthday of the Wells Hotel.\nWhen the Cariboo Gold Quartz mine opened early in 1933\, a survey of the Townsite of Wells was done by Major E.J. Gook. The first two lots\, on the corner of Pooley Street and Sanders Avenue\, were sold by the Townsite Company to entrepreneur Paddy MacDonell who built the Wells Hotel on the site. \nThe Wells Hotel was completed late in the fall of 1934\, and a huge opening party was held at the hotel on the evening of November 13\, hosted by the owners\, Paddy and Mrs. MacDonell. For this special occasion the electric power supplied to the town was turned on for the first time. \nWhile the Wells Hotel has seen many changes in ownership and several renovations in its long history\, it continues to be a significant landmark in the town\, offering an air of stability and culture to the ever-changing socio-economic landscape of Wells. \nWe’re inviting the community to join us for a free hot bowl of soup to gather a mark another year in the history of the hotel.
URL:https://whatsupinwells.com/event/soups-on-happy-89th-birthday-wells-hotel/
LOCATION:The Wells Hotel\, 2341 Pooley St.\, Wells\, BC\, V0k2R0\, Canada
CATEGORIES:Food,Free,Wells
ATTACH;FMTTYPE=image/jpeg:https://whatsupinwells.com/wp-content/uploads/2023/11/winter-old.jpg
END:VEVENT
BEGIN:VEVENT
DTSTART;TZID=America/Vancouver:20231118T210000
DTEND;TZID=America/Vancouver:20231119T020000
DTSTAMP:20260423T083321
CREATED:20231021T202126Z
LAST-MODIFIED:20231021T202127Z
UID:10001372-1700341200-1700359200@whatsupinwells.com
SUMMARY:Karaoke Night
DESCRIPTION:Every Saturday from 9 pm to 2 am
URL:https://whatsupinwells.com/event/karaoke-night-3-2/2023-11-18/
LOCATION:Jack O’ Club Restaurant & Pub\, 12383 Hwy 27 E.\, Wells\, BC\, V0K2R0\, Canada
CATEGORIES:19+,Music,Wells
ATTACH;FMTTYPE=image/jpeg:https://whatsupinwells.com/wp-content/uploads/2023/07/karaokee.jpg
END:VEVENT
BEGIN:VEVENT
DTSTART;TZID=America/Vancouver:20231120T174500
DTEND;TZID=America/Vancouver:20231120T201500
DTSTAMP:20260423T083321
CREATED:20231106T001316Z
LAST-MODIFIED:20231106T001345Z
UID:10001646-1700502300-1700511300@whatsupinwells.com
SUMMARY:Winter Hip-Hop Classes
DESCRIPTION:Happy November! \nWinter hip-hop is back again with Tyler Burnson!\nJoin us every second Monday! Must register in advance! \nThis class serves as an introduction to Hip Hop Dance Styles\, where we build weekly on choreography! \nThere are 3 fee tiers you can choose from! Visit island-mountain-arts.square.site for more information! \n\nSuggested Fee: $60.00 – 80.00+GST – This rate is made possible through support from the Province of British Columbia\nSustaining Fee: $162.00+GST – This would be the cost of the program if IMA received no grants from the province.\nPay What You Can at the Door – We want you to take part\, but you do need to register in advance!\n\nWith instructor Tyler Burnson.\n8 classes total! Max 10 Participants!\nTIME: Every Second Monday\nAges 6 – 12 from 5:45 – 6:45\nAges 18+ from 7:00 PM – 8:15 PM\nMonday\, Nov 06\nMonday\, Nov 20\nMonday\, Dec 04\nMonday\, Dec 18\nTUESDAY\, Jan 02 (Moved due to New Years)\nMonday\, Jan 15\nMonday\, Jan 29\nMonday\, Feb 12
URL:https://whatsupinwells.com/event/winter-hip-hop-vclasses/2023-11-20/
LOCATION:Wells Community Hall\, 4269 Sanders Ave\, Wells\, BC\, V0K2R0\, Canada
CATEGORIES:Arts,Education,Music,Wells
ATTACH;FMTTYPE=image/jpeg:https://whatsupinwells.com/wp-content/uploads/2023/11/winter-hip-hop.jpg
END:VEVENT
BEGIN:VEVENT
DTSTART;TZID=America/Vancouver:20231125T210000
DTEND;TZID=America/Vancouver:20231126T020000
DTSTAMP:20260423T083321
CREATED:20231021T202126Z
LAST-MODIFIED:20231021T202127Z
UID:10001373-1700946000-1700964000@whatsupinwells.com
SUMMARY:Karaoke Night
DESCRIPTION:Every Saturday from 9 pm to 2 am
URL:https://whatsupinwells.com/event/karaoke-night-3-2/2023-11-25/
LOCATION:Jack O’ Club Restaurant & Pub\, 12383 Hwy 27 E.\, Wells\, BC\, V0K2R0\, Canada
CATEGORIES:19+,Music,Wells
ATTACH;FMTTYPE=image/jpeg:https://whatsupinwells.com/wp-content/uploads/2023/07/karaokee.jpg
END:VEVENT
END:VCALENDAR