BEGIN:VCALENDAR
VERSION:2.0
PRODID:-//What&#039;s Up in Wells - ECPv6.15.20//NONSGML v1.0//EN
CALSCALE:GREGORIAN
METHOD:PUBLISH
X-WR-CALNAME:What&#039;s Up in Wells
X-ORIGINAL-URL:https://whatsupinwells.com
X-WR-CALDESC:Events for What&#039;s Up in Wells
REFRESH-INTERVAL;VALUE=DURATION:PT1H
X-Robots-Tag:noindex
X-PUBLISHED-TTL:PT1H
BEGIN:VTIMEZONE
TZID:America/Vancouver
BEGIN:DAYLIGHT
TZOFFSETFROM:-0800
TZOFFSETTO:-0700
TZNAME:PDT
DTSTART:20230312T100000
END:DAYLIGHT
BEGIN:STANDARD
TZOFFSETFROM:-0700
TZOFFSETTO:-0800
TZNAME:PST
DTSTART:20231105T090000
END:STANDARD
BEGIN:DAYLIGHT
TZOFFSETFROM:-0800
TZOFFSETTO:-0700
TZNAME:PDT
DTSTART:20240310T100000
END:DAYLIGHT
BEGIN:STANDARD
TZOFFSETFROM:-0700
TZOFFSETTO:-0800
TZNAME:PST
DTSTART:20241103T090000
END:STANDARD
BEGIN:DAYLIGHT
TZOFFSETFROM:-0800
TZOFFSETTO:-0700
TZNAME:PDT
DTSTART:20250309T100000
END:DAYLIGHT
BEGIN:STANDARD
TZOFFSETFROM:-0700
TZOFFSETTO:-0800
TZNAME:PST
DTSTART:20251102T090000
END:STANDARD
END:VTIMEZONE
BEGIN:VEVENT
DTSTART;TZID=America/Vancouver:20240201T173000
DTEND;TZID=America/Vancouver:20240201T190000
DTSTAMP:20260423T034617
CREATED:20240131T212551Z
LAST-MODIFIED:20240131T212551Z
UID:10001932-1706808600-1706814000@whatsupinwells.com
SUMMARY:Wells-Barkerville School Show - Opening Reception
DESCRIPTION:This annual show of All things Art features the young artists of Wells!\nThis show would not be possible without the incredible educators at the Wells-Barkerville school.\nThis exhibition is supported by the Province of British Columbia.\nWe hope that you’ll come out to the opening reception and support these incredible\, creative young folks.\nJoin us for the Gallery opening from 5:30 PM – 7:00 PM on February 1st\, 2024.\nDo you know a young person in Wells/Barkerville/Bowron who makes art but is homeschooled? Message info@imarts.com before the 30th – We’d love to try and include their work in the show \nSnacks and refreshments will be provided!\nThe Gallery is open Thursday – Sunday 11:00 AM – 4:00 PM from Feb 1st to March 03rd\, 2024. Some dates will have extended hours until 6:00 PM
URL:https://whatsupinwells.com/event/wells-barkerville-school-show-opening-reception/
LOCATION:Island Mountain Arts\, 2323 Pooley St.\, Wells\, BC\, V0k2R0\, Canada
CATEGORIES:Arts,Free,Wells
ATTACH;FMTTYPE=image/jpeg:https://whatsupinwells.com/wp-content/uploads/2024/01/wells-barkerville-school-show-reception.jpg
END:VEVENT
BEGIN:VEVENT
DTSTART;TZID=America/Vancouver:20240203T210000
DTEND;TZID=America/Vancouver:20240204T020000
DTSTAMP:20260423T034617
CREATED:20231021T202126Z
LAST-MODIFIED:20231021T202127Z
UID:10001383-1706994000-1707012000@whatsupinwells.com
SUMMARY:Karaoke Night
DESCRIPTION:Every Saturday from 9 pm to 2 am
URL:https://whatsupinwells.com/event/karaoke-night-3-2/2024-02-03/
LOCATION:Jack O’ Club Restaurant & Pub\, 12383 Hwy 27 E.\, Wells\, BC\, V0K2R0\, Canada
CATEGORIES:19+,Music,Wells
ATTACH;FMTTYPE=image/jpeg:https://whatsupinwells.com/wp-content/uploads/2023/07/karaokee.jpg
END:VEVENT
BEGIN:VEVENT
DTSTART;TZID=America/Vancouver:20240206T190000
DTEND;TZID=America/Vancouver:20240206T210000
DTSTAMP:20260423T034617
CREATED:20240131T210733Z
LAST-MODIFIED:20240530T154143Z
UID:10001666-1707246000-1707253200@whatsupinwells.com
SUMMARY:Adult Pickleball Nights
DESCRIPTION:Wells Pickleball is back! Tuesdays @ 7pm\, starting tomorrow\, at the Community Hall. All you need is a pair of running shoes. Drop in fee is $3. No experience required. We will also be running youth Pickleball on Thursdays from 4-5:30 pm.\nHope to see you there!
URL:https://whatsupinwells.com/event/pickleball-nights/2024-02-06/
LOCATION:Wells Community Hall\, 4269 Sanders Ave\, Wells\, BC\, V0K2R0\, Canada
CATEGORIES:Outdoor Recreation,Wells
ATTACH;FMTTYPE=image/png:https://whatsupinwells.com/wp-content/uploads/2023/01/pickleball-2.png
ORGANIZER;CN="Wells and Area Community Association":MAILTO:Wellsareacommunity@gmail.com
END:VEVENT
BEGIN:VEVENT
DTSTART;TZID=America/Vancouver:20240208T160000
DTEND;TZID=America/Vancouver:20240208T173000
DTSTAMP:20260423T034617
CREATED:20240131T211005Z
LAST-MODIFIED:20240131T211005Z
UID:10001927-1707408000-1707413400@whatsupinwells.com
SUMMARY:Youth Pickleball Nights
DESCRIPTION:Wells Youth Pickleball is back! Thursday from 4-5:30 pm\, at the Community Hall. All you need is a pair of running shoes. Drop in fee is $3. No experience required. We are also be running adult Pickleball on Tuesday from 7-8:30 pm.\nHope to see you there!
URL:https://whatsupinwells.com/event/youth-pickleball-nights/
LOCATION:Wells Community Hall\, 4269 Sanders Ave\, Wells\, BC\, V0K2R0\, Canada
CATEGORIES:Outdoor Recreation,Wells
ATTACH;FMTTYPE=image/png:https://whatsupinwells.com/wp-content/uploads/2023/01/pickleball-2.png
ORGANIZER;CN="Wells and Area Community Association":MAILTO:Wellsareacommunity@gmail.com
END:VEVENT
BEGIN:VEVENT
DTSTART;VALUE=DATE:20240209
DTEND;VALUE=DATE:20240213
DTSTAMP:20260423T034617
CREATED:20240201T211146Z
LAST-MODIFIED:20240201T211146Z
UID:10001939-1707451200-1707710399@whatsupinwells.com
SUMMARY:Gold Rush Trail Sled Dog Mail Run
DESCRIPTION:Where sled dog teams travel wilderness trails between Quesnel\, Wells & Barkerville over three days – Feb 9-11\, 2024 \nSchedule of Events:\nFeb 9: Troll Ski Resort\n11:30 am: Swearing in of mail carriers\n12:45 pm: Mushers meeting\n1:00 pm: Stage #1 begins!\n6:00 pm: Banquet & Auction at Troll Ski Resort \nFeb 10: Jack O’ Clubs General\, Wells\, BC\n10:45 am: Mushers meeting\n11:00 am: Stage #2 begins!\n3:00 pm: Musher sports\n6:00 pm: informal social for mushers and volunteers \nFeb 11: Barkerville\, BC\n9:30 am – 10:30 am: Registration for the Barkerville Dash\n9:45 am: Mushers meeting\n10:00 am: Stage #3 begins!\n11:00 am: Barkerville Dash begins\n11:15 am: Participants begin to arrive at the Barkerville Post Office\n1:00 pm: Wind-up and Awards
URL:https://whatsupinwells.com/event/gold-rush-trail-sled-dog-mail-run-2/
LOCATION:BC
CATEGORIES:Barkerville,Outdoor Recreation,Troll,Wells
ATTACH;FMTTYPE=image/jpeg:https://whatsupinwells.com/wp-content/uploads/2024/02/sled-dog.jpg
ORGANIZER;CN="Gold Rush Trail Dog Sled Mail Run":MAILTO:info@dogsledmailrun.ca
END:VEVENT
BEGIN:VEVENT
DTSTART;TZID=America/Vancouver:20240210T180000
DTEND;TZID=America/Vancouver:20240210T200000
DTSTAMP:20260423T034617
CREATED:20240131T211944Z
LAST-MODIFIED:20240201T014542Z
UID:10001930-1707588000-1707595200@whatsupinwells.com
SUMMARY:Lunar New Year Feast
DESCRIPTION:Celebrate the arrival of the Year of the Dragon by joining us for a Chinese Buffet Feast! We’ll be adorning the Pub in lanterns\, hosting some fun activities\, and going all out with the food\, making the all-you-can-eat feast from scratch in-house to celebrate the authentic flavours of China. $5 for every ticket sold will go to support Barkerville Historic Town and Park’s Mid-Autumn Moon Festival\, a celebration of Chinese culture and history. \nTime: 6 pm to 8 pm buffet service. Pub open late for games and drinks. \nPrice: $45 per person. $20 for children 12 and under. Due to the high interest in the event\, tickets must be purchased in advance. Purchase tickets online\, call\, or stop by the hotel to reserve your seat: https://the-wells-hotel.square.site/ or 250-994-3427 \nThe Buffet Menu:\n– Assorted hand made dim sum from the Delicious Dim Sum Co. in Richmond\n– Veggie fried rice\n– Cashew chop suey with house-made tofu\n– House-made char siu pork (sticky BBQ)\n– Ginger beef stir fry\n– Shrimp wonton soup with house-made wontons\nSpecial cocktails available at the bar
URL:https://whatsupinwells.com/event/lunar-new-year-feast/
LOCATION:The Wells Hotel\, 2341 Pooley St.\, Wells\, BC\, V0k2R0\, Canada
CATEGORIES:Food,Wells
ATTACH;FMTTYPE=image/png:https://whatsupinwells.com/wp-content/uploads/2024/01/Peach-and-Red-Chinese-New-Year-Dragon-Flyer-Facebook-Cover.png
END:VEVENT
BEGIN:VEVENT
DTSTART;TZID=America/Vancouver:20240210T210000
DTEND;TZID=America/Vancouver:20240211T020000
DTSTAMP:20260423T034617
CREATED:20231021T202126Z
LAST-MODIFIED:20231021T202127Z
UID:10001384-1707598800-1707616800@whatsupinwells.com
SUMMARY:Karaoke Night
DESCRIPTION:Every Saturday from 9 pm to 2 am
URL:https://whatsupinwells.com/event/karaoke-night-3-2/2024-02-10/
LOCATION:Jack O’ Club Restaurant & Pub\, 12383 Hwy 27 E.\, Wells\, BC\, V0K2R0\, Canada
CATEGORIES:19+,Music,Wells
ATTACH;FMTTYPE=image/jpeg:https://whatsupinwells.com/wp-content/uploads/2023/07/karaokee.jpg
END:VEVENT
BEGIN:VEVENT
DTSTART;TZID=America/Vancouver:20240212T174500
DTEND;TZID=America/Vancouver:20240212T201500
DTSTAMP:20260423T034617
CREATED:20231106T001316Z
LAST-MODIFIED:20231106T001345Z
UID:10001652-1707759900-1707768900@whatsupinwells.com
SUMMARY:Winter Hip-Hop Classes
DESCRIPTION:Happy November! \nWinter hip-hop is back again with Tyler Burnson!\nJoin us every second Monday! Must register in advance! \nThis class serves as an introduction to Hip Hop Dance Styles\, where we build weekly on choreography! \nThere are 3 fee tiers you can choose from! Visit island-mountain-arts.square.site for more information! \n\nSuggested Fee: $60.00 – 80.00+GST – This rate is made possible through support from the Province of British Columbia\nSustaining Fee: $162.00+GST – This would be the cost of the program if IMA received no grants from the province.\nPay What You Can at the Door – We want you to take part\, but you do need to register in advance!\n\nWith instructor Tyler Burnson.\n8 classes total! Max 10 Participants!\nTIME: Every Second Monday\nAges 6 – 12 from 5:45 – 6:45\nAges 18+ from 7:00 PM – 8:15 PM\nMonday\, Nov 06\nMonday\, Nov 20\nMonday\, Dec 04\nMonday\, Dec 18\nTUESDAY\, Jan 02 (Moved due to New Years)\nMonday\, Jan 15\nMonday\, Jan 29\nMonday\, Feb 12
URL:https://whatsupinwells.com/event/winter-hip-hop-vclasses/2024-02-12/
LOCATION:Wells Community Hall\, 4269 Sanders Ave\, Wells\, BC\, V0K2R0\, Canada
CATEGORIES:Arts,Education,Music,Wells
ATTACH;FMTTYPE=image/jpeg:https://whatsupinwells.com/wp-content/uploads/2023/11/winter-hip-hop.jpg
END:VEVENT
BEGIN:VEVENT
DTSTART;TZID=America/Vancouver:20240213T190000
DTEND;TZID=America/Vancouver:20240213T210000
DTSTAMP:20260423T034617
CREATED:20240131T210733Z
LAST-MODIFIED:20240530T154143Z
UID:10001667-1707850800-1707858000@whatsupinwells.com
SUMMARY:Adult Pickleball Nights
DESCRIPTION:Wells Pickleball is back! Tuesdays @ 7pm\, starting tomorrow\, at the Community Hall. All you need is a pair of running shoes. Drop in fee is $3. No experience required. We will also be running youth Pickleball on Thursdays from 4-5:30 pm.\nHope to see you there!
URL:https://whatsupinwells.com/event/pickleball-nights/2024-02-13/
LOCATION:Wells Community Hall\, 4269 Sanders Ave\, Wells\, BC\, V0K2R0\, Canada
CATEGORIES:Outdoor Recreation,Wells
ATTACH;FMTTYPE=image/png:https://whatsupinwells.com/wp-content/uploads/2023/01/pickleball-2.png
ORGANIZER;CN="Wells and Area Community Association":MAILTO:Wellsareacommunity@gmail.com
END:VEVENT
BEGIN:VEVENT
DTSTART;TZID=America/Vancouver:20240214T170000
DTEND;TZID=America/Vancouver:20240214T210000
DTSTAMP:20260423T034617
CREATED:20240131T212316Z
LAST-MODIFIED:20240131T212316Z
UID:10001931-1707930000-1707944400@whatsupinwells.com
SUMMARY:Valentine's Day Dinner
DESCRIPTION:We’ll be opening up the Hotel Dining Room for dinner service one night only to create a beautiful space on Valentine’s Day. Candle light\, flowers\, a special menu\, and wine pairings. Menu and reservations coming soon.
URL:https://whatsupinwells.com/event/valentines-day-dinner/
LOCATION:The Wells Hotel\, 2341 Pooley St.\, Wells\, BC\, V0k2R0\, Canada
CATEGORIES:Food,Wells
ATTACH;FMTTYPE=image/png:https://whatsupinwells.com/wp-content/uploads/2024/01/red-minimalist-Valentine-day-dinner-menu-template-Facebook-Cover.png
END:VEVENT
BEGIN:VEVENT
DTSTART;TZID=America/Vancouver:20240216T200000
DTEND;TZID=America/Vancouver:20240216T210000
DTSTAMP:20260423T034617
CREATED:20240201T011118Z
LAST-MODIFIED:20240201T011118Z
UID:10001938-1708113600-1708117200@whatsupinwells.com
SUMMARY:Book Reading: Mini Saga in South Africa by Hilary Crowley
DESCRIPTION:Hilary’s latest book is Mini Saga in South Africa\, published by Friesen Press\, and can be found everywhere online and in local book retailers. This memoir relates exciting adventures as well as explores the political landscape of the time. “What a wonderful experience\, and a great message about seizing life’s opportunities!” \nHilary will be joining us in Wells Friday\, February 16 at 8 pm in the Wells Hotel Lounge for a reading from her new book
URL:https://whatsupinwells.com/event/book-reading-mini-saga-in-south-africa-by-hilary-crowley/
LOCATION:The Wells Hotel\, 2341 Pooley St.\, Wells\, BC\, V0k2R0\, Canada
CATEGORIES:Arts,Free,Wells
ATTACH;FMTTYPE=image/png:https://whatsupinwells.com/wp-content/uploads/2024/01/mini-saga-in-south-africa.png
END:VEVENT
BEGIN:VEVENT
DTSTART;TZID=America/Vancouver:20240217T100000
DTEND;TZID=America/Vancouver:20240217T160000
DTSTAMP:20260423T034617
CREATED:20240131T211709Z
LAST-MODIFIED:20240131T211709Z
UID:10001929-1708164000-1708185600@whatsupinwells.com
SUMMARY:The Wells International Gourmet Ski Tour
DESCRIPTION:The Wells International Gourmet Ski has been the main fundraiser for WATS for over 10 years. Participants get to experience a few of the things that make Wells great: the skiing\, the company\, the gorgeous natural setting\, and the delicious food produced in our humble kitchens! \nSki as much or as little as you would like\, eat fantastic International cuisine at four food stations along the way\, and join us for hot drinks and desserts at the finale. Get dressed up in your most ridiculous costumes for a chance to win great prizes! Stay in Wells for the evening and join us at the Sunset Theatre for our popular Winter Film Fest. \nTickets for the 2024 Gourmet Ski Tour event are sold out. \nTHE WELLS INTERNATIONAL GOURMET SKI WEEKEND ITINERARY\nSaturday Breakfast — Breakfast is available at the Diggy’s Dinner\, The Wells Hotel or Becker’s Lodge (Bowron Lake) \nCheck-in and sign waiver \nNote: Everyone (including minors and infants) must check in and sign their waiver (parents must sign for minors). Also everyone must check out when they have finished skiing (otherwise SAR will be looking for you!) You will also receive your map\, dishes and cutlery\, and your swag! \nWhere: Location: Frog on the Bog\nWhen: 10 am until 12 noon\nParking: BGM (Barkerville Gold Mines) parking lot across from the Frog; not behind the Jack O’ Clubs \nSki and eat (and laugh) \nThere will be 4 food stations located out on our trail system\, and the final station back at the Jack O’ Clubs. Their locations will be marked on the map we will give you when you sign in and complete your waiver.\nWhere: Start skiing from trail head — look for the banner at the northeast corner of the Jack O’ Clubs parking lot.\nWhen: Start skiing anytime between 11 am and 12 noon; food stations close at 2:45 pm\nHow: Ski the trails in any order or direction; visit the food stations in any order; visit the “Booty Basket” locations (marked on the map) to see some new trail development and to get extra treats! \nDesserts and Finale (Prizes!!)\nWhere: The Jack O’ Clubs pub\nWhen: Pub will be open for drinks starting at 1 pm; desserts will be ready to sample starting at 2pm to 4pm; prize give-away starts at approximately 3:30 pm; group photo in front of the Jack O’ Clubs at approximately 4 pm. \nDinner \nThe Jack of Clubs\nThe Wells Hotel\nReservations are strongly recommended. \nWinter Film Festival\nThe acclaimed Winter Film Fest is a great event in its own right. Dave Jorgenson of Whitegold Adventures has chosen some amazing short films for the 2024 Festival\nWhere: The Sunset Theatre\nWhen: 7 pm \nCancellation Policy for Gourmet Ski\nFull refund (less $25 administration fee) until February 1st. No refunds after February 1st. \nAccommodation — Book your accommodation early at:\nWells Hotel — (250) 994-3427\nMountain Thyme Getaway/Willow River Inn — (250) 994-2345\nThe Tomato House — booked\nThe Nest — (250) 994-3466 (Island Mountain Arts)\nBarkerville Cottages — (250) 994-3332\nSt. George Hotel (Barkerville) – 780-712-2810 or stgeorgehotel@xplornet.ca\nThe Whitecaps — 250.991.1020 or whitecapsmotel@hotmail.com\nBecker’s Lodge at Bowron Lake 1-250-992-8864 or 1-604-424-4333\nIf you can’t find accommodation\, let us know and we will try to assist you\nSunday — relax\, enjoy the sights and trails around Wells\, Barkerville and Bowron Lakes!
URL:https://whatsupinwells.com/event/the-wells-international-gourmet-ski-tour/
LOCATION:BC
CATEGORIES:Food,Outdoor Recreation,Wells
ATTACH;FMTTYPE=image/jpeg:https://whatsupinwells.com/wp-content/uploads/2018/12/GourmetSkiersBanner-1024x576.jpg
ORGANIZER;CN="Wells and Area Trails Society":MAILTO:wellstrails@gmail.com
END:VEVENT
BEGIN:VEVENT
DTSTART;TZID=America/Vancouver:20240217T190000
DTEND;TZID=America/Vancouver:20240217T210000
DTSTAMP:20260423T034617
CREATED:20240131T211333Z
LAST-MODIFIED:20240131T211333Z
UID:10001928-1708196400-1708203600@whatsupinwells.com
SUMMARY:Gourmet Ski Winter Film Festival Presented by the Wells & Area Trail Society
DESCRIPTION:Stay tuned for more details on the wonderful winter outdoor themed short films that will be presented by WATS as part of their annual Gourmet Ski Weekend. It’s always a great evening after a long fabulous day of skiing. \nVisit the WATS website for details about Tickets for the Film Fest\, which can also be purchased at the Door @ the Sunset Theatre. The tickets for the Film Fest are separate from the Gourmet Ski Tickets.
URL:https://whatsupinwells.com/event/gourmet-ski-winter-film-festival-presented-by-the-wells-area-trail-society/
LOCATION:Sunset Theatre\, 2357 Pooley St.\, Wells\, BC\, v0k2r0\, Canada
CATEGORIES:Outdoor Recreation,Theatre,Wells
ATTACH;FMTTYPE=image/jpeg:https://whatsupinwells.com/wp-content/uploads/2023/01/mountain-film-fest.jpg
ORGANIZER;CN="Wells and Area Trails Society":MAILTO:wellstrails@gmail.com
END:VEVENT
BEGIN:VEVENT
DTSTART;TZID=America/Vancouver:20240217T210000
DTEND;TZID=America/Vancouver:20240218T020000
DTSTAMP:20260423T034617
CREATED:20231021T202126Z
LAST-MODIFIED:20231021T202127Z
UID:10001385-1708203600-1708221600@whatsupinwells.com
SUMMARY:Karaoke Night
DESCRIPTION:Every Saturday from 9 pm to 2 am
URL:https://whatsupinwells.com/event/karaoke-night-3-2/2024-02-17/
LOCATION:Jack O’ Club Restaurant & Pub\, 12383 Hwy 27 E.\, Wells\, BC\, V0K2R0\, Canada
CATEGORIES:19+,Music,Wells
ATTACH;FMTTYPE=image/jpeg:https://whatsupinwells.com/wp-content/uploads/2023/07/karaokee.jpg
END:VEVENT
BEGIN:VEVENT
DTSTART;TZID=America/Vancouver:20240218T120000
DTEND;TZID=America/Vancouver:20240218T160000
DTSTAMP:20260423T034617
CREATED:20240131T213908Z
LAST-MODIFIED:20240131T213908Z
UID:10001935-1708257600-1708272000@whatsupinwells.com
SUMMARY:FREE Family Day Activity | Plein Air Pastels and Painting with Peter Corbett
DESCRIPTION:PLEASE REGISTER IN ADVANCE!\nThanks to support from the Province of BC and the BC Museums Association\, this event is free to attend. Space is limited\, though\, and we need numbers so we can have snacks and drinks for everyone involved. \nhttps://forms.gle/efYfN2EkU4J1ePqj6 \nIn honour of the BC Family Day Weekend\, Island Mountain Arts and St. George Studio are delighted to invite you to an afternoon of Plein air painting and pastels with local artist Peter Corbett.\nWe’ll supply materials. Dress warmly and bring your own thermos for warm beverages.**\nWe ask that all youth under the age of 12 be accompanied by a parent or a guardian\, and all youth under 18 come with a written note of permission from their parent or guardian. \n  \n** If it is exceedingly cold\, the workshop will take place from the 2nd floor IMA studios. \nPARTICIPANT TO BRING:\nBe prepared to take a short walk around Wells! That means all the goods you need to keep warm.\nGloves\, not mitts – your hands will get cold\nWhat you need to keep warm – we recommend good base layers and pants that you can sacrifice to paints.\nYour thermos of choice – we’ll make sure you have hot chocolate tea\, coffee and other beverages to keep yourself warm\nCamp Chair – Optional\nIMA WILL PROVIDE:\nEasels\nDrawing boards\nPaper\nArt materials such as pens\, pencils\, erasers\, paints (watercolour\, acrylic) and oil pastels\nSnacks and warm drinks.\nThis project is supported by the Province of British Columbia
URL:https://whatsupinwells.com/event/free-family-day-activity-plein-air-pastels-and-painting-with-peter-corbett/
LOCATION:BC
CATEGORIES:Arts,Free,Outdoor Recreation,Wells
ATTACH;FMTTYPE=image/jpeg:https://whatsupinwells.com/wp-content/uploads/2024/01/plein-air-family-day.jpg
END:VEVENT
BEGIN:VEVENT
DTSTART;TZID=America/Vancouver:20240220T190000
DTEND;TZID=America/Vancouver:20240220T210000
DTSTAMP:20260423T034617
CREATED:20240131T210733Z
LAST-MODIFIED:20240530T154143Z
UID:10001668-1708455600-1708462800@whatsupinwells.com
SUMMARY:Adult Pickleball Nights
DESCRIPTION:Wells Pickleball is back! Tuesdays @ 7pm\, starting tomorrow\, at the Community Hall. All you need is a pair of running shoes. Drop in fee is $3. No experience required. We will also be running youth Pickleball on Thursdays from 4-5:30 pm.\nHope to see you there!
URL:https://whatsupinwells.com/event/pickleball-nights/2024-02-20/
LOCATION:Wells Community Hall\, 4269 Sanders Ave\, Wells\, BC\, V0K2R0\, Canada
CATEGORIES:Outdoor Recreation,Wells
ATTACH;FMTTYPE=image/png:https://whatsupinwells.com/wp-content/uploads/2023/01/pickleball-2.png
ORGANIZER;CN="Wells and Area Community Association":MAILTO:Wellsareacommunity@gmail.com
END:VEVENT
BEGIN:VEVENT
DTSTART;TZID=America/Vancouver:20240224T210000
DTEND;TZID=America/Vancouver:20240225T020000
DTSTAMP:20260423T034617
CREATED:20231021T202126Z
LAST-MODIFIED:20231021T202127Z
UID:10001386-1708808400-1708826400@whatsupinwells.com
SUMMARY:Karaoke Night
DESCRIPTION:Every Saturday from 9 pm to 2 am
URL:https://whatsupinwells.com/event/karaoke-night-3-2/2024-02-24/
LOCATION:Jack O’ Club Restaurant & Pub\, 12383 Hwy 27 E.\, Wells\, BC\, V0K2R0\, Canada
CATEGORIES:19+,Music,Wells
ATTACH;FMTTYPE=image/jpeg:https://whatsupinwells.com/wp-content/uploads/2023/07/karaokee.jpg
END:VEVENT
BEGIN:VEVENT
DTSTART;TZID=America/Vancouver:20240227T190000
DTEND;TZID=America/Vancouver:20240227T210000
DTSTAMP:20260423T034617
CREATED:20240131T210733Z
LAST-MODIFIED:20240530T154143Z
UID:10001669-1709060400-1709067600@whatsupinwells.com
SUMMARY:Adult Pickleball Nights
DESCRIPTION:Wells Pickleball is back! Tuesdays @ 7pm\, starting tomorrow\, at the Community Hall. All you need is a pair of running shoes. Drop in fee is $3. No experience required. We will also be running youth Pickleball on Thursdays from 4-5:30 pm.\nHope to see you there!
URL:https://whatsupinwells.com/event/pickleball-nights/2024-02-27/
LOCATION:Wells Community Hall\, 4269 Sanders Ave\, Wells\, BC\, V0K2R0\, Canada
CATEGORIES:Outdoor Recreation,Wells
ATTACH;FMTTYPE=image/png:https://whatsupinwells.com/wp-content/uploads/2023/01/pickleball-2.png
ORGANIZER;CN="Wells and Area Community Association":MAILTO:Wellsareacommunity@gmail.com
END:VEVENT
END:VCALENDAR