BEGIN:VCALENDAR
VERSION:2.0
PRODID:-//What&#039;s Up in Wells - ECPv6.15.20//NONSGML v1.0//EN
CALSCALE:GREGORIAN
METHOD:PUBLISH
X-ORIGINAL-URL:https://whatsupinwells.com
X-WR-CALDESC:Events for What&#039;s Up in Wells
REFRESH-INTERVAL;VALUE=DURATION:PT1H
X-Robots-Tag:noindex
X-PUBLISHED-TTL:PT1H
BEGIN:VTIMEZONE
TZID:America/Vancouver
BEGIN:DAYLIGHT
TZOFFSETFROM:-0800
TZOFFSETTO:-0700
TZNAME:PDT
DTSTART:20270314T100000
END:DAYLIGHT
BEGIN:STANDARD
TZOFFSETFROM:-0700
TZOFFSETTO:-0800
TZNAME:PST
DTSTART:20271107T090000
END:STANDARD
BEGIN:DAYLIGHT
TZOFFSETFROM:-0800
TZOFFSETTO:-0700
TZNAME:PDT
DTSTART:20280312T100000
END:DAYLIGHT
BEGIN:STANDARD
TZOFFSETFROM:-0700
TZOFFSETTO:-0800
TZNAME:PST
DTSTART:20281105T090000
END:STANDARD
BEGIN:DAYLIGHT
TZOFFSETFROM:-0800
TZOFFSETTO:-0700
TZNAME:PDT
DTSTART:20290311T100000
END:DAYLIGHT
BEGIN:STANDARD
TZOFFSETFROM:-0700
TZOFFSETTO:-0800
TZNAME:PST
DTSTART:20291104T090000
END:STANDARD
END:VTIMEZONE
BEGIN:VEVENT
DTSTART;TZID=America/Vancouver:20281007T210000
DTEND;TZID=America/Vancouver:20281007T233000
DTSTAMP:20260423T114729
CREATED:20251126T162905Z
LAST-MODIFIED:20251126T162911Z
UID:10003167-1854565200-1854574200@whatsupinwells.com
SUMMARY:Karaoke Night
DESCRIPTION:Every Saturday from 9 pm to late
URL:https://whatsupinwells.com/event/karaoke-night-4-2/2028-10-07/
LOCATION:Jack O’ Club Restaurant & Pub\, 12383 Hwy 27 E.\, Wells\, BC\, V0K2R0\, Canada
CATEGORIES:19+,Music,Wells
END:VEVENT
BEGIN:VEVENT
DTSTART;TZID=America/Vancouver:20281014T210000
DTEND;TZID=America/Vancouver:20281014T233000
DTSTAMP:20260423T114729
CREATED:20251126T162905Z
LAST-MODIFIED:20251126T162911Z
UID:10003168-1855170000-1855179000@whatsupinwells.com
SUMMARY:Karaoke Night
DESCRIPTION:Every Saturday from 9 pm to late
URL:https://whatsupinwells.com/event/karaoke-night-4-2/2028-10-14/
LOCATION:Jack O’ Club Restaurant & Pub\, 12383 Hwy 27 E.\, Wells\, BC\, V0K2R0\, Canada
CATEGORIES:19+,Music,Wells
END:VEVENT
BEGIN:VEVENT
DTSTART;TZID=America/Vancouver:20281021T210000
DTEND;TZID=America/Vancouver:20281021T233000
DTSTAMP:20260423T114729
CREATED:20251126T162905Z
LAST-MODIFIED:20251126T162911Z
UID:10003169-1855774800-1855783800@whatsupinwells.com
SUMMARY:Karaoke Night
DESCRIPTION:Every Saturday from 9 pm to late
URL:https://whatsupinwells.com/event/karaoke-night-4-2/2028-10-21/
LOCATION:Jack O’ Club Restaurant & Pub\, 12383 Hwy 27 E.\, Wells\, BC\, V0K2R0\, Canada
CATEGORIES:19+,Music,Wells
END:VEVENT
BEGIN:VEVENT
DTSTART;TZID=America/Vancouver:20281028T210000
DTEND;TZID=America/Vancouver:20281028T233000
DTSTAMP:20260423T114729
CREATED:20251126T162905Z
LAST-MODIFIED:20251126T162911Z
UID:10003170-1856379600-1856388600@whatsupinwells.com
SUMMARY:Karaoke Night
DESCRIPTION:Every Saturday from 9 pm to late
URL:https://whatsupinwells.com/event/karaoke-night-4-2/2028-10-28/
LOCATION:Jack O’ Club Restaurant & Pub\, 12383 Hwy 27 E.\, Wells\, BC\, V0K2R0\, Canada
CATEGORIES:19+,Music,Wells
END:VEVENT
END:VCALENDAR