BEGIN:VCALENDAR
VERSION:2.0
PRODID:-//What&#039;s Up in Wells - ECPv6.15.20//NONSGML v1.0//EN
CALSCALE:GREGORIAN
METHOD:PUBLISH
X-ORIGINAL-URL:https://whatsupinwells.com
X-WR-CALDESC:Events for What&#039;s Up in Wells
REFRESH-INTERVAL;VALUE=DURATION:PT1H
X-Robots-Tag:noindex
X-PUBLISHED-TTL:PT1H
BEGIN:VTIMEZONE
TZID:America/Vancouver
BEGIN:DAYLIGHT
TZOFFSETFROM:-0800
TZOFFSETTO:-0700
TZNAME:PDT
DTSTART:20280312T100000
END:DAYLIGHT
BEGIN:STANDARD
TZOFFSETFROM:-0700
TZOFFSETTO:-0800
TZNAME:PST
DTSTART:20281105T090000
END:STANDARD
BEGIN:DAYLIGHT
TZOFFSETFROM:-0800
TZOFFSETTO:-0700
TZNAME:PDT
DTSTART:20290311T100000
END:DAYLIGHT
BEGIN:STANDARD
TZOFFSETFROM:-0700
TZOFFSETTO:-0800
TZNAME:PST
DTSTART:20291104T090000
END:STANDARD
BEGIN:DAYLIGHT
TZOFFSETFROM:-0800
TZOFFSETTO:-0700
TZNAME:PDT
DTSTART:20300310T100000
END:DAYLIGHT
BEGIN:STANDARD
TZOFFSETFROM:-0700
TZOFFSETTO:-0800
TZNAME:PST
DTSTART:20301103T090000
END:STANDARD
END:VTIMEZONE
BEGIN:VEVENT
DTSTART;TZID=America/Vancouver:20290303T210000
DTEND;TZID=America/Vancouver:20290303T233000
DTSTAMP:20260423T195424
CREATED:20251126T162905Z
LAST-MODIFIED:20251126T162911Z
UID:10003188-1867266000-1867275000@whatsupinwells.com
SUMMARY:Karaoke Night
DESCRIPTION:Every Saturday from 9 pm to late
URL:https://whatsupinwells.com/event/karaoke-night-4-2/2029-03-03/
LOCATION:Jack O’ Club Restaurant & Pub\, 12383 Hwy 27 E.\, Wells\, BC\, V0K2R0\, Canada
CATEGORIES:19+,Music,Wells
END:VEVENT
BEGIN:VEVENT
DTSTART;TZID=America/Vancouver:20290310T210000
DTEND;TZID=America/Vancouver:20290310T233000
DTSTAMP:20260423T195424
CREATED:20251126T162905Z
LAST-MODIFIED:20251126T162911Z
UID:10003189-1867870800-1867879800@whatsupinwells.com
SUMMARY:Karaoke Night
DESCRIPTION:Every Saturday from 9 pm to late
URL:https://whatsupinwells.com/event/karaoke-night-4-2/2029-03-10/
LOCATION:Jack O’ Club Restaurant & Pub\, 12383 Hwy 27 E.\, Wells\, BC\, V0K2R0\, Canada
CATEGORIES:19+,Music,Wells
END:VEVENT
BEGIN:VEVENT
DTSTART;TZID=America/Vancouver:20290317T210000
DTEND;TZID=America/Vancouver:20290317T233000
DTSTAMP:20260423T195424
CREATED:20251126T162905Z
LAST-MODIFIED:20251126T162911Z
UID:10003190-1868475600-1868484600@whatsupinwells.com
SUMMARY:Karaoke Night
DESCRIPTION:Every Saturday from 9 pm to late
URL:https://whatsupinwells.com/event/karaoke-night-4-2/2029-03-17/
LOCATION:Jack O’ Club Restaurant & Pub\, 12383 Hwy 27 E.\, Wells\, BC\, V0K2R0\, Canada
CATEGORIES:19+,Music,Wells
END:VEVENT
BEGIN:VEVENT
DTSTART;TZID=America/Vancouver:20290324T210000
DTEND;TZID=America/Vancouver:20290324T233000
DTSTAMP:20260423T195424
CREATED:20251126T162905Z
LAST-MODIFIED:20251126T162911Z
UID:10003191-1869080400-1869089400@whatsupinwells.com
SUMMARY:Karaoke Night
DESCRIPTION:Every Saturday from 9 pm to late
URL:https://whatsupinwells.com/event/karaoke-night-4-2/2029-03-24/
LOCATION:Jack O’ Club Restaurant & Pub\, 12383 Hwy 27 E.\, Wells\, BC\, V0K2R0\, Canada
CATEGORIES:19+,Music,Wells
END:VEVENT
BEGIN:VEVENT
DTSTART;TZID=America/Vancouver:20290331T210000
DTEND;TZID=America/Vancouver:20290331T233000
DTSTAMP:20260423T195424
CREATED:20251126T162905Z
LAST-MODIFIED:20251126T162911Z
UID:10003192-1869685200-1869694200@whatsupinwells.com
SUMMARY:Karaoke Night
DESCRIPTION:Every Saturday from 9 pm to late
URL:https://whatsupinwells.com/event/karaoke-night-4-2/2029-03-31/
LOCATION:Jack O’ Club Restaurant & Pub\, 12383 Hwy 27 E.\, Wells\, BC\, V0K2R0\, Canada
CATEGORIES:19+,Music,Wells
END:VEVENT
END:VCALENDAR