BEGIN:VCALENDAR
VERSION:2.0
PRODID:-//What&#039;s Up in Wells - ECPv6.15.20//NONSGML v1.0//EN
CALSCALE:GREGORIAN
METHOD:PUBLISH
X-ORIGINAL-URL:https://whatsupinwells.com
X-WR-CALDESC:Events for What&#039;s Up in Wells
REFRESH-INTERVAL;VALUE=DURATION:PT1H
X-Robots-Tag:noindex
X-PUBLISHED-TTL:PT1H
BEGIN:VTIMEZONE
TZID:America/Vancouver
BEGIN:DAYLIGHT
TZOFFSETFROM:-0800
TZOFFSETTO:-0700
TZNAME:PDT
DTSTART:20180311T100000
END:DAYLIGHT
BEGIN:STANDARD
TZOFFSETFROM:-0700
TZOFFSETTO:-0800
TZNAME:PST
DTSTART:20181104T090000
END:STANDARD
BEGIN:DAYLIGHT
TZOFFSETFROM:-0800
TZOFFSETTO:-0700
TZNAME:PDT
DTSTART:20190310T100000
END:DAYLIGHT
BEGIN:STANDARD
TZOFFSETFROM:-0700
TZOFFSETTO:-0800
TZNAME:PST
DTSTART:20191103T090000
END:STANDARD
BEGIN:DAYLIGHT
TZOFFSETFROM:-0800
TZOFFSETTO:-0700
TZNAME:PDT
DTSTART:20200308T100000
END:DAYLIGHT
BEGIN:STANDARD
TZOFFSETFROM:-0700
TZOFFSETTO:-0800
TZNAME:PST
DTSTART:20201101T090000
END:STANDARD
END:VTIMEZONE
BEGIN:VEVENT
DTSTART;TZID=America/Vancouver:20190128T093000
DTEND;TZID=America/Vancouver:20190128T110000
DTSTAMP:20260423T100804
CREATED:20190129T001429Z
LAST-MODIFIED:20190129T001429Z
UID:10000122-1548667800-1548673200@whatsupinwells.com
SUMMARY:Mo Hamilton Workshop w/ Wells-Barkerville Elementary Students
DESCRIPTION:Mo Hamilton will be returning to Wells to continue to work with our local elementary students. This is part of a larger project being put on by Island Mountain Arts\, providing ongoing and free programming for the Wells youngsters.
URL:https://whatsupinwells.com/event/mo-hamilton-workshop-w-wells-barkerville-elementary-students/
LOCATION:Wells-Barkerville Community School\, Wells\, BC\, Canada
CATEGORIES:Arts
ATTACH;FMTTYPE=image/jpeg:https://whatsupinwells.com/wp-content/uploads/2019/01/51079057_2419290721434025_8635206330438647808_o.jpg
END:VEVENT
BEGIN:VEVENT
DTSTART;TZID=America/Vancouver:20190126T100000
DTEND;TZID=America/Vancouver:20190127T160000
DTSTAMP:20260423T100804
CREATED:20181219T064448Z
LAST-MODIFIED:20181219T064448Z
UID:10000052-1548496800-1548604800@whatsupinwells.com
SUMMARY:Block Printing on Fabric with Mo Hamilton
DESCRIPTION:Block Printing on Fabric and Surface Design with Mo Hamilton!\nJoin Mo Hamilton Artist for this fun two-day winter workshop\, from\nSaturday\, Jan 26th to Sunday\, Jan 27th\, 2019\, 10am – 4pm each day. \nIn this workshop\, Mo will guide students through the process of block printing on fabric. You will learn about creating designs for fabrics\, carving blocks and the process of printing simple repeat patterns. We will explore a variety of techniques from ombre rolls\, two-coloured printing and jigsaw prints. We will cover what makes good design as it applies to fabric\, colour and texture. You will learn how to do offset printing and how to register your stamps so your work has a professional fabric look. \n“As an artist\, I obtain my inspiration from the external world around me\, but reveal in my paintings the internal world of my imagination. By reducing my images to their essential elements\, I can bring simplicity\, myth\, and the primal\, to my explorations of limits and boundaries with the intent of moving beyond them. Recently\, I have worked on a series of paintings that explore the soul’s journey. I have followed my vision to places I had not intended to go allowing my intuition to guide me. I have found power in words and incorporated them in my work; I have used collage and montage to go places I had not been before. I use life story as the dark\, rich compost to generate new creation and have in my most recent paintings worked more intuitively than ever before.” \nEarly Bird Price\n$230 + $30 material fee + GST\n(early bird deposit fee $57.50) \nRegular Price\n$255 + $30 material fee + GST
URL:https://whatsupinwells.com/event/block-printing-on-fabric-with-mo-hamilton/
LOCATION:Island Mountain Arts\, 2323 Pooley St.\, Wells\, BC\, V0k2R0\, Canada
CATEGORIES:Arts,Wells
ATTACH;FMTTYPE=image/jpeg:https://whatsupinwells.com/wp-content/uploads/2018/12/Block-printing-Mo-Hamilton.jpg
END:VEVENT
BEGIN:VEVENT
DTSTART;TZID=America/Vancouver:20190125T070000
DTEND;TZID=America/Vancouver:20190125T220000
DTSTAMP:20260423T100804
CREATED:20181219T233151Z
LAST-MODIFIED:20181219T233151Z
UID:10000038-1548399600-1548453600@whatsupinwells.com
SUMMARY:'The 100 Houses Project: Reflections on Our Times' Exhibition Opening for Mo Hamilton Artist
DESCRIPTION:The image of home is a powerful\, archetypal symbol for finding our truest self\, or soul. We all have this profound longing to find home\, a place of deep belonging. To come home is to find a place where you can truly be yourself and to be home is to have a refuge from all the outward expectations and be in a place where you can listen to your own heart. When we are in touch with our inner selves home can be wherever we are at that time. \nThe 100 Houses Project that I am working on is a long-term project that began with the question “What is home?”. The idea for this project started with a profound dream I had when my family and I were leaving a home that we had lived in for ten years. This was a place where I had given birth to both of my children and where my husband and I grew from being a couple to becoming a family. Unfortunately\, it wasn’t economically viable for us to stay so we chose to leave because my husband got a steady job up north. I had packed all of our belongings into a moving van and we had our last sleep in our empty house. That night I had a dream that I was living in a house on a bridge. I thought the dream was such a profound visual metaphor for what I was experiencing in that moment because I was no longer staying in this home but I wasn’t at my new place either. I was in that in-between place. This got me thinking of the home as symbol for the soul and how the only steadiness we have is our inner strength. In The 100 Houses Project I use the symbol of the house as a way of expressing the steadiness of our inner homes or selves as we head out on our life’s journey. \nArtist Statement\nAs an artist\, I obtain my inspiration from the external world around me\, but reveal in my paintings the internal world of my imagination. By reducing my images to their essential elements\, I can bring simplicity\, myth\, and the primal\, to my explorations of limits and boundaries with the intent of moving beyond them. Recently\, I have worked on a series of paintings that explore the soul’s journey. I have followed my vision to places I had not intended to go allowing my intuition to guide me. I have found power in words and incorporated them in my work; I have used collage and montage to go places I had not been before. I use life story as the dark\, rich compost to generate new creation and have in my most recent paintings worked more intuitively than ever before.
URL:https://whatsupinwells.com/event/the-100-houses-project-reflections-on-our-times-exhibition-opening-for-mo-hamilton-artist/
LOCATION:Island Mountain Arts\, 2323 Pooley St.\, Wells\, BC\, V0k2R0\, Canada
CATEGORIES:Arts,Wells
ATTACH;FMTTYPE=image/jpeg:https://whatsupinwells.com/wp-content/uploads/2018/12/48243229_10156264077004069_5125114066917916672_n.jpg
END:VEVENT
END:VCALENDAR