BEGIN:VCALENDAR
VERSION:2.0
PRODID:-//What&#039;s Up in Wells - ECPv6.15.20//NONSGML v1.0//EN
CALSCALE:GREGORIAN
METHOD:PUBLISH
X-WR-CALNAME:What&#039;s Up in Wells
X-ORIGINAL-URL:https://whatsupinwells.com
X-WR-CALDESC:Events for What&#039;s Up in Wells
REFRESH-INTERVAL;VALUE=DURATION:PT1H
X-Robots-Tag:noindex
X-PUBLISHED-TTL:PT1H
BEGIN:VTIMEZONE
TZID:America/Vancouver
BEGIN:DAYLIGHT
TZOFFSETFROM:-0800
TZOFFSETTO:-0700
TZNAME:PDT
DTSTART:20170312T100000
END:DAYLIGHT
BEGIN:STANDARD
TZOFFSETFROM:-0700
TZOFFSETTO:-0800
TZNAME:PST
DTSTART:20171105T090000
END:STANDARD
BEGIN:DAYLIGHT
TZOFFSETFROM:-0800
TZOFFSETTO:-0700
TZNAME:PDT
DTSTART:20180311T100000
END:DAYLIGHT
BEGIN:STANDARD
TZOFFSETFROM:-0700
TZOFFSETTO:-0800
TZNAME:PST
DTSTART:20181104T090000
END:STANDARD
BEGIN:DAYLIGHT
TZOFFSETFROM:-0800
TZOFFSETTO:-0700
TZNAME:PDT
DTSTART:20190310T100000
END:DAYLIGHT
BEGIN:STANDARD
TZOFFSETFROM:-0700
TZOFFSETTO:-0800
TZNAME:PST
DTSTART:20191103T090000
END:STANDARD
BEGIN:DAYLIGHT
TZOFFSETFROM:-0800
TZOFFSETTO:-0700
TZNAME:PDT
DTSTART:20200308T100000
END:DAYLIGHT
BEGIN:STANDARD
TZOFFSETFROM:-0700
TZOFFSETTO:-0800
TZNAME:PST
DTSTART:20201101T090000
END:STANDARD
END:VTIMEZONE
BEGIN:VEVENT
DTSTART;TZID=America/Vancouver:20190619T200000
DTEND;TZID=America/Vancouver:20190619T210000
DTSTAMP:20260423T001017
CREATED:20190613T005820Z
LAST-MODIFIED:20190613T005820Z
UID:10000278-1560974400-1560978000@whatsupinwells.com
SUMMARY:Operatic Panic Attack
DESCRIPTION:Written and performed by TJ Dawe \nThe legendary Canadian monologist (Roller Coaster\, Medicine\, Marathon\, the Slipknot\, Labrador) returns to the Sunset stage with a new performance about being a theatre student\, sexual anxiety and discovering beautiful music. \n“A master monologist” – Toronto Star • “A flawless performer” – Charleston City Paper • “Dawe has storytelling down to a fine art” – Vancouver Sun • “A natural and prodigious gift for storytelling” – Montreal Gazette.
URL:https://whatsupinwells.com/event/operatic-panic-attack/2019-06-19/
LOCATION:Sunset Theatre\, 2357 Pooley St.\, Wells\, BC\, v0k2r0\, Canada
CATEGORIES:Theatre,Wells
ATTACH;FMTTYPE=image/jpeg:https://whatsupinwells.com/wp-content/uploads/2019/06/operactic-panic-attack.jpg
END:VEVENT
BEGIN:VEVENT
DTSTART;TZID=America/Vancouver:20190618T200000
DTEND;TZID=America/Vancouver:20190618T220000
DTSTAMP:20260423T001017
CREATED:20190408T230054Z
LAST-MODIFIED:20190408T230054Z
UID:10000228-1560888000-1560895200@whatsupinwells.com
SUMMARY:The Sunset Cabaret
DESCRIPTION:The Sunset Cabaret is a long-standing tradition at the Sunset Theatre\, inspired by the coffee houses of the 1960s and the popular Theatrical Happenings of the 1970s.  IMA used to host periodical Coffee Houses\, inviting anyone and everyone to participate in an evening of sharing creative stories\, songs\, poetry\, dance\, film\, whatever was your fancy.  Since re-opening its doors in 2006\, there have been 44 Sunset Cabarets\, hosting 100s of artists from Wells\, Barkerville or just driving through town. Intended to be a fundraiser for the Sunset Theatre\, the Cabarets have become a tradition over the years. \nThe Sunset Cabarets were hosted by our beloved Tim Sutherland who gathered the group together to create a raucous and memorable evening. The baton has been passed to Stu Cawood and James Douglas who give of their time to carry on this tradition\, bringing together the community in laughter and song. \nAll ages are welcome\, however extreme\, over-the-top\, risque content is typical. Course language and adult themes are often featured. \nDoors open @ 7:30PM • Show starts at 8PM \nNB • Adult content
URL:https://whatsupinwells.com/event/the-sunset-cabaret-2/
LOCATION:Sunset Theatre\, 2357 Pooley St.\, Wells\, BC\, v0k2r0\, Canada
CATEGORIES:Theatre,Wells
ATTACH;FMTTYPE=image/jpeg:https://whatsupinwells.com/wp-content/uploads/2019/04/T2C8126.jpg
END:VEVENT
BEGIN:VEVENT
DTSTART;TZID=America/Vancouver:20190522T200000
DTEND;TZID=America/Vancouver:20190522T220000
DTSTAMP:20260423T001017
CREATED:20190408T225921Z
LAST-MODIFIED:20190408T231015Z
UID:10000227-1558555200-1558562400@whatsupinwells.com
SUMMARY:The Sunset Cabaret - Chris Cooley's 40th Birthday Edition
DESCRIPTION:The Sunset Cabaret is a long-standing tradition at the Sunset Theatre\, inspired by the coffee houses of the 1960s and the popular Theatrical Happenings of the 1970s.  IMA used to host periodical Coffee Houses\, inviting anyone and everyone to participate in an evening of sharing creative stories\, songs\, poetry\, dance\, film\, whatever was your fancy.  Since re-opening its doors in 2006\, there have been 44 Sunset Cabarets\, hosting 100s of artists from Wells\, Barkerville or just driving through town. Intended to be a fundraiser for the Sunset Theatre\, the Cabarets have become a tradition over the years. \nThe Sunset Cabarets were hosted by our beloved Tim Sutherland who gathered the group together to create a raucous and memorable evening. The baton has been passed to Stu Cawood and James Douglas who give of their time to carry on this tradition\, bringing together the community in laughter and song. \nAll ages are welcome\, however extreme\, over-the-top\, risque content is typical. Course language and adult themes are often featured. \nDoors open @ 7:30PM • Show starts at 8PM \nNB • Adult content
URL:https://whatsupinwells.com/event/the-sunset-cabaret/
LOCATION:Sunset Theatre\, 2357 Pooley St.\, Wells\, BC\, v0k2r0\, Canada
CATEGORIES:Theatre,Wells
ATTACH;FMTTYPE=image/jpeg:https://whatsupinwells.com/wp-content/uploads/2019/04/T2C8126.jpg
END:VEVENT
BEGIN:VEVENT
DTSTART;TZID=America/Vancouver:20190216T190000
DTEND;TZID=America/Vancouver:20190216T210000
DTSTAMP:20260423T001017
CREATED:20190214T194848Z
LAST-MODIFIED:20190214T195323Z
UID:10000137-1550343600-1550350800@whatsupinwells.com
SUMMARY:Family Film Night: Never Cry Wolf
DESCRIPTION:Filmed amid spectacular wilderness vistas\, NEVER CRY WOLF reveals a world of hypnotic beauty and breathtaking cinematic imagery. An unforgettable adventure begins as Tyler\, a young inexperienced biologist\, is deposited alone onto the desolate Arctic terrain. Once settled\, he struggles to endure the forces of nature as he documents the mysterious habits of the wolves he has been sent to study. \nConcession will be open. Admission is $5 a person.
URL:https://whatsupinwells.com/event/family-film-night-never-cry-wolf/
LOCATION:Sunset Theatre\, 2357 Pooley St.\, Wells\, BC\, v0k2r0\, Canada
CATEGORIES:Theatre,Wells
ATTACH;FMTTYPE=image/jpeg:https://whatsupinwells.com/wp-content/uploads/2019/02/never-cry-wold.jpg
END:VEVENT
BEGIN:VEVENT
DTSTART;TZID=America/Vancouver:20181231T080000
DTEND;TZID=America/Vancouver:20181231T220000
DTSTAMP:20260423T001017
CREATED:20181219T113145Z
LAST-MODIFIED:20181228T183424Z
UID:10000051-1546243200-1546293600@whatsupinwells.com
SUMMARY:Sunset Cabaret - NYE Edition
DESCRIPTION:The Sunset Cabaret is a long-standing tradition at the Sunset Theatre\, inspired by the coffee houses of the 1960s and the popular Theatrical Happenings of the 1970s.  IMA used to host periodical Coffee Houses\, inviting anyone and everyone to participate in an evening of sharing creative stories\, songs\, poetry\, dance\, film\, whatever was your fancy.  Since re-opening its doors in 2006\, there have been 44 Sunset Cabarets\, hosting 100s of artists from Wells\, Barkerville or just driving through town. Intended to be a fundraiser for the Sunset Theatre\, the Cabarets have become a tradition over the years.   \nThe Sunset Cabarets were hosted by our beloved Tim Sutherland who gathered the group together to create a raucous and memorable evening. The baton has been passed to Stu Cawood and James Douglas who give of their time to carry on this tradition\, bringing together the community in laughter and song.  \nAll ages are welcome\, however extreme\, over-the-top\, risque content is typical. Course language and adult themes are often featured. 
URL:https://whatsupinwells.com/event/sunset-cabaret-nye-edition/
LOCATION:Sunset Theatre\, 2357 Pooley St.\, Wells\, BC\, v0k2r0\, Canada
CATEGORIES:Theatre,Wells
END:VEVENT
END:VCALENDAR