BEGIN:VCALENDAR
VERSION:2.0
PRODID:-//What&#039;s Up in Wells - ECPv6.15.20//NONSGML v1.0//EN
CALSCALE:GREGORIAN
METHOD:PUBLISH
X-ORIGINAL-URL:https://whatsupinwells.com
X-WR-CALDESC:Events for What&#039;s Up in Wells
REFRESH-INTERVAL;VALUE=DURATION:PT1H
X-Robots-Tag:noindex
X-PUBLISHED-TTL:PT1H
BEGIN:VTIMEZONE
TZID:America/Vancouver
BEGIN:DAYLIGHT
TZOFFSETFROM:-0800
TZOFFSETTO:-0700
TZNAME:PDT
DTSTART:20190310T100000
END:DAYLIGHT
BEGIN:STANDARD
TZOFFSETFROM:-0700
TZOFFSETTO:-0800
TZNAME:PST
DTSTART:20191103T090000
END:STANDARD
BEGIN:DAYLIGHT
TZOFFSETFROM:-0800
TZOFFSETTO:-0700
TZNAME:PDT
DTSTART:20200308T100000
END:DAYLIGHT
BEGIN:STANDARD
TZOFFSETFROM:-0700
TZOFFSETTO:-0800
TZNAME:PST
DTSTART:20201101T090000
END:STANDARD
BEGIN:DAYLIGHT
TZOFFSETFROM:-0800
TZOFFSETTO:-0700
TZNAME:PDT
DTSTART:20210314T100000
END:DAYLIGHT
BEGIN:STANDARD
TZOFFSETFROM:-0700
TZOFFSETTO:-0800
TZNAME:PST
DTSTART:20211107T090000
END:STANDARD
BEGIN:DAYLIGHT
TZOFFSETFROM:-0800
TZOFFSETTO:-0700
TZNAME:PDT
DTSTART:20220313T100000
END:DAYLIGHT
BEGIN:STANDARD
TZOFFSETFROM:-0700
TZOFFSETTO:-0800
TZNAME:PST
DTSTART:20221106T090000
END:STANDARD
BEGIN:DAYLIGHT
TZOFFSETFROM:-0800
TZOFFSETTO:-0700
TZNAME:PDT
DTSTART:20230312T100000
END:DAYLIGHT
BEGIN:STANDARD
TZOFFSETFROM:-0700
TZOFFSETTO:-0800
TZNAME:PST
DTSTART:20231105T090000
END:STANDARD
BEGIN:DAYLIGHT
TZOFFSETFROM:-0800
TZOFFSETTO:-0700
TZNAME:PDT
DTSTART:20240310T100000
END:DAYLIGHT
BEGIN:STANDARD
TZOFFSETFROM:-0700
TZOFFSETTO:-0800
TZNAME:PST
DTSTART:20241103T090000
END:STANDARD
BEGIN:DAYLIGHT
TZOFFSETFROM:-0800
TZOFFSETTO:-0700
TZNAME:PDT
DTSTART:20250309T100000
END:DAYLIGHT
BEGIN:STANDARD
TZOFFSETFROM:-0700
TZOFFSETTO:-0800
TZNAME:PST
DTSTART:20251102T090000
END:STANDARD
END:VTIMEZONE
BEGIN:VEVENT
DTSTART;TZID=America/Vancouver:20240113T210000
DTEND;TZID=America/Vancouver:20240114T020000
DTSTAMP:20260421T202000
CREATED:20231021T202126Z
LAST-MODIFIED:20231021T202127Z
UID:10001380-1705179600-1705197600@whatsupinwells.com
SUMMARY:Karaoke Night
DESCRIPTION:Every Saturday from 9 pm to 2 am
URL:https://whatsupinwells.com/event/karaoke-night-3-2/2024-01-13/
LOCATION:Jack O’ Club Restaurant & Pub\, 12383 Hwy 27 E.\, Wells\, BC\, V0K2R0\, Canada
CATEGORIES:19+,Music,Wells
ATTACH;FMTTYPE=image/jpeg:https://whatsupinwells.com/wp-content/uploads/2023/07/karaokee.jpg
END:VEVENT
BEGIN:VEVENT
DTSTART;TZID=America/Vancouver:20240106T210000
DTEND;TZID=America/Vancouver:20240107T020000
DTSTAMP:20260421T202000
CREATED:20231021T202126Z
LAST-MODIFIED:20231021T202127Z
UID:10001379-1704574800-1704592800@whatsupinwells.com
SUMMARY:Karaoke Night
DESCRIPTION:Every Saturday from 9 pm to 2 am
URL:https://whatsupinwells.com/event/karaoke-night-3-2/2024-01-06/
LOCATION:Jack O’ Club Restaurant & Pub\, 12383 Hwy 27 E.\, Wells\, BC\, V0K2R0\, Canada
CATEGORIES:19+,Music,Wells
ATTACH;FMTTYPE=image/jpeg:https://whatsupinwells.com/wp-content/uploads/2023/07/karaokee.jpg
END:VEVENT
BEGIN:VEVENT
DTSTART;TZID=America/Vancouver:20231230T210000
DTEND;TZID=America/Vancouver:20231231T020000
DTSTAMP:20260421T202000
CREATED:20231021T202126Z
LAST-MODIFIED:20231021T202127Z
UID:10001378-1703970000-1703988000@whatsupinwells.com
SUMMARY:Karaoke Night
DESCRIPTION:Every Saturday from 9 pm to 2 am
URL:https://whatsupinwells.com/event/karaoke-night-3-2/2023-12-30/
LOCATION:Jack O’ Club Restaurant & Pub\, 12383 Hwy 27 E.\, Wells\, BC\, V0K2R0\, Canada
CATEGORIES:19+,Music,Wells
ATTACH;FMTTYPE=image/jpeg:https://whatsupinwells.com/wp-content/uploads/2023/07/karaokee.jpg
END:VEVENT
BEGIN:VEVENT
DTSTART;TZID=America/Vancouver:20231223T210000
DTEND;TZID=America/Vancouver:20231224T020000
DTSTAMP:20260421T202000
CREATED:20231021T202126Z
LAST-MODIFIED:20231021T202127Z
UID:10001377-1703365200-1703383200@whatsupinwells.com
SUMMARY:Karaoke Night
DESCRIPTION:Every Saturday from 9 pm to 2 am
URL:https://whatsupinwells.com/event/karaoke-night-3-2/2023-12-23/
LOCATION:Jack O’ Club Restaurant & Pub\, 12383 Hwy 27 E.\, Wells\, BC\, V0K2R0\, Canada
CATEGORIES:19+,Music,Wells
ATTACH;FMTTYPE=image/jpeg:https://whatsupinwells.com/wp-content/uploads/2023/07/karaokee.jpg
END:VEVENT
BEGIN:VEVENT
DTSTART;TZID=America/Vancouver:20231216T210000
DTEND;TZID=America/Vancouver:20231217T020000
DTSTAMP:20260421T202000
CREATED:20231021T202126Z
LAST-MODIFIED:20231021T202127Z
UID:10001376-1702760400-1702778400@whatsupinwells.com
SUMMARY:Karaoke Night
DESCRIPTION:Every Saturday from 9 pm to 2 am
URL:https://whatsupinwells.com/event/karaoke-night-3-2/2023-12-16/
LOCATION:Jack O’ Club Restaurant & Pub\, 12383 Hwy 27 E.\, Wells\, BC\, V0K2R0\, Canada
CATEGORIES:19+,Music,Wells
ATTACH;FMTTYPE=image/jpeg:https://whatsupinwells.com/wp-content/uploads/2023/07/karaokee.jpg
END:VEVENT
BEGIN:VEVENT
DTSTART;TZID=America/Vancouver:20231215T200000
DTEND;TZID=America/Vancouver:20231215T220000
DTSTAMP:20260421T202000
CREATED:20231209T162446Z
LAST-MODIFIED:20231209T162446Z
UID:10001664-1702670400-1702677600@whatsupinwells.com
SUMMARY:Kid's Karaoke
DESCRIPTION:Kid’s karaoke? 🎤 🎶\nIt’s happening! Join us for this free\, family-friendly event on Friday\, December 15th @ 8pm- 10pm.\nWhat song are your kiddos (or you) going to sing?! Maybe a Disney classic or Baby Shark? Either way we can’t wait to hear it!!🎵
URL:https://whatsupinwells.com/event/kids-karaoke/
LOCATION:Jack O’ Club Restaurant & Pub\, 12383 Hwy 27 E.\, Wells\, BC\, V0K2R0\, Canada
CATEGORIES:Free,Music,Wells
ATTACH;FMTTYPE=image/jpeg:https://whatsupinwells.com/wp-content/uploads/2023/12/kids-karaoke.jpg
END:VEVENT
BEGIN:VEVENT
DTSTART;TZID=America/Vancouver:20231209T210000
DTEND;TZID=America/Vancouver:20231210T020000
DTSTAMP:20260421T202000
CREATED:20231021T202126Z
LAST-MODIFIED:20231021T202127Z
UID:10001375-1702155600-1702173600@whatsupinwells.com
SUMMARY:Karaoke Night
DESCRIPTION:Every Saturday from 9 pm to 2 am
URL:https://whatsupinwells.com/event/karaoke-night-3-2/2023-12-09/
LOCATION:Jack O’ Club Restaurant & Pub\, 12383 Hwy 27 E.\, Wells\, BC\, V0K2R0\, Canada
CATEGORIES:19+,Music,Wells
ATTACH;FMTTYPE=image/jpeg:https://whatsupinwells.com/wp-content/uploads/2023/07/karaokee.jpg
END:VEVENT
BEGIN:VEVENT
DTSTART;TZID=America/Vancouver:20231202T210000
DTEND;TZID=America/Vancouver:20231203T020000
DTSTAMP:20260421T202000
CREATED:20231021T202126Z
LAST-MODIFIED:20231021T202127Z
UID:10001374-1701550800-1701568800@whatsupinwells.com
SUMMARY:Karaoke Night
DESCRIPTION:Every Saturday from 9 pm to 2 am
URL:https://whatsupinwells.com/event/karaoke-night-3-2/2023-12-02/
LOCATION:Jack O’ Club Restaurant & Pub\, 12383 Hwy 27 E.\, Wells\, BC\, V0K2R0\, Canada
CATEGORIES:19+,Music,Wells
ATTACH;FMTTYPE=image/jpeg:https://whatsupinwells.com/wp-content/uploads/2023/07/karaokee.jpg
END:VEVENT
BEGIN:VEVENT
DTSTART;TZID=America/Vancouver:20231125T210000
DTEND;TZID=America/Vancouver:20231126T020000
DTSTAMP:20260421T202000
CREATED:20231021T202126Z
LAST-MODIFIED:20231021T202127Z
UID:10001373-1700946000-1700964000@whatsupinwells.com
SUMMARY:Karaoke Night
DESCRIPTION:Every Saturday from 9 pm to 2 am
URL:https://whatsupinwells.com/event/karaoke-night-3-2/2023-11-25/
LOCATION:Jack O’ Club Restaurant & Pub\, 12383 Hwy 27 E.\, Wells\, BC\, V0K2R0\, Canada
CATEGORIES:19+,Music,Wells
ATTACH;FMTTYPE=image/jpeg:https://whatsupinwells.com/wp-content/uploads/2023/07/karaokee.jpg
END:VEVENT
BEGIN:VEVENT
DTSTART;TZID=America/Vancouver:20231118T210000
DTEND;TZID=America/Vancouver:20231119T020000
DTSTAMP:20260421T202000
CREATED:20231021T202126Z
LAST-MODIFIED:20231021T202127Z
UID:10001372-1700341200-1700359200@whatsupinwells.com
SUMMARY:Karaoke Night
DESCRIPTION:Every Saturday from 9 pm to 2 am
URL:https://whatsupinwells.com/event/karaoke-night-3-2/2023-11-18/
LOCATION:Jack O’ Club Restaurant & Pub\, 12383 Hwy 27 E.\, Wells\, BC\, V0K2R0\, Canada
CATEGORIES:19+,Music,Wells
ATTACH;FMTTYPE=image/jpeg:https://whatsupinwells.com/wp-content/uploads/2023/07/karaokee.jpg
END:VEVENT
BEGIN:VEVENT
DTSTART;TZID=America/Vancouver:20231111T210000
DTEND;TZID=America/Vancouver:20231112T020000
DTSTAMP:20260421T202000
CREATED:20231021T202126Z
LAST-MODIFIED:20231021T202127Z
UID:10001371-1699736400-1699754400@whatsupinwells.com
SUMMARY:Karaoke Night
DESCRIPTION:Every Saturday from 9 pm to 2 am
URL:https://whatsupinwells.com/event/karaoke-night-3-2/2023-11-11/
LOCATION:Jack O’ Club Restaurant & Pub\, 12383 Hwy 27 E.\, Wells\, BC\, V0K2R0\, Canada
CATEGORIES:19+,Music,Wells
ATTACH;FMTTYPE=image/jpeg:https://whatsupinwells.com/wp-content/uploads/2023/07/karaokee.jpg
END:VEVENT
BEGIN:VEVENT
DTSTART;TZID=America/Vancouver:20231028T210000
DTEND;TZID=America/Vancouver:20231029T020000
DTSTAMP:20260421T202000
CREATED:20231021T202126Z
LAST-MODIFIED:20231021T202127Z
UID:10001369-1698526800-1698544800@whatsupinwells.com
SUMMARY:Karaoke Night
DESCRIPTION:Every Saturday from 9 pm to 2 am
URL:https://whatsupinwells.com/event/karaoke-night-3-2/2023-10-28/
LOCATION:Jack O’ Club Restaurant & Pub\, 12383 Hwy 27 E.\, Wells\, BC\, V0K2R0\, Canada
CATEGORIES:19+,Music,Wells
ATTACH;FMTTYPE=image/jpeg:https://whatsupinwells.com/wp-content/uploads/2023/07/karaokee.jpg
END:VEVENT
BEGIN:VEVENT
DTSTART;TZID=America/Vancouver:20231021T210000
DTEND;TZID=America/Vancouver:20231022T020000
DTSTAMP:20260421T202000
CREATED:20230916T200758Z
LAST-MODIFIED:20230916T200758Z
UID:10001368-1697922000-1697940000@whatsupinwells.com
SUMMARY:Karaoke Night
DESCRIPTION:Every Saturday from 9 pm to 2 am
URL:https://whatsupinwells.com/event/karaoke-night-3/2023-10-21/
LOCATION:Jack O’ Club Restaurant & Pub\, 12383 Hwy 27 E.\, Wells\, BC\, V0K2R0\, Canada
CATEGORIES:19+,Music,Wells
ATTACH;FMTTYPE=image/jpeg:https://whatsupinwells.com/wp-content/uploads/2023/07/karaokee.jpg
END:VEVENT
BEGIN:VEVENT
DTSTART;TZID=America/Vancouver:20231014T210000
DTEND;TZID=America/Vancouver:20231015T020000
DTSTAMP:20260421T202000
CREATED:20230916T200758Z
LAST-MODIFIED:20230916T200758Z
UID:10001367-1697317200-1697335200@whatsupinwells.com
SUMMARY:Karaoke Night
DESCRIPTION:Every Saturday from 9 pm to 2 am
URL:https://whatsupinwells.com/event/karaoke-night-3/2023-10-14/
LOCATION:Jack O’ Club Restaurant & Pub\, 12383 Hwy 27 E.\, Wells\, BC\, V0K2R0\, Canada
CATEGORIES:19+,Music,Wells
ATTACH;FMTTYPE=image/jpeg:https://whatsupinwells.com/wp-content/uploads/2023/07/karaokee.jpg
END:VEVENT
BEGIN:VEVENT
DTSTART;TZID=America/Vancouver:20231007T210000
DTEND;TZID=America/Vancouver:20231008T020000
DTSTAMP:20260421T202000
CREATED:20230916T200758Z
LAST-MODIFIED:20230916T200758Z
UID:10001366-1696712400-1696730400@whatsupinwells.com
SUMMARY:Karaoke Night
DESCRIPTION:Every Saturday from 9 pm to 2 am
URL:https://whatsupinwells.com/event/karaoke-night-3/2023-10-07/
LOCATION:Jack O’ Club Restaurant & Pub\, 12383 Hwy 27 E.\, Wells\, BC\, V0K2R0\, Canada
CATEGORIES:19+,Music,Wells
ATTACH;FMTTYPE=image/jpeg:https://whatsupinwells.com/wp-content/uploads/2023/07/karaokee.jpg
END:VEVENT
BEGIN:VEVENT
DTSTART;TZID=America/Vancouver:20230930T210000
DTEND;TZID=America/Vancouver:20231001T020000
DTSTAMP:20260421T202000
CREATED:20230916T200758Z
LAST-MODIFIED:20230916T200758Z
UID:10001365-1696107600-1696125600@whatsupinwells.com
SUMMARY:Karaoke Night
DESCRIPTION:Every Saturday from 9 pm to 2 am
URL:https://whatsupinwells.com/event/karaoke-night-3/2023-09-30/
LOCATION:Jack O’ Club Restaurant & Pub\, 12383 Hwy 27 E.\, Wells\, BC\, V0K2R0\, Canada
CATEGORIES:19+,Music,Wells
ATTACH;FMTTYPE=image/jpeg:https://whatsupinwells.com/wp-content/uploads/2023/07/karaokee.jpg
END:VEVENT
BEGIN:VEVENT
DTSTART;TZID=America/Vancouver:20230923T210000
DTEND;TZID=America/Vancouver:20230924T020000
DTSTAMP:20260421T202000
CREATED:20230916T200758Z
LAST-MODIFIED:20230916T200758Z
UID:10001364-1695502800-1695520800@whatsupinwells.com
SUMMARY:Karaoke Night
DESCRIPTION:Every Saturday from 9 pm to 2 am
URL:https://whatsupinwells.com/event/karaoke-night-3/2023-09-23/
LOCATION:Jack O’ Club Restaurant & Pub\, 12383 Hwy 27 E.\, Wells\, BC\, V0K2R0\, Canada
CATEGORIES:19+,Music,Wells
ATTACH;FMTTYPE=image/jpeg:https://whatsupinwells.com/wp-content/uploads/2023/07/karaokee.jpg
END:VEVENT
BEGIN:VEVENT
DTSTART;TZID=America/Vancouver:20230916T210000
DTEND;TZID=America/Vancouver:20230917T020000
DTSTAMP:20260421T202000
CREATED:20230916T200758Z
LAST-MODIFIED:20230916T200758Z
UID:10001363-1694898000-1694916000@whatsupinwells.com
SUMMARY:Karaoke Night
DESCRIPTION:Every Saturday from 9 pm to 2 am
URL:https://whatsupinwells.com/event/karaoke-night-3/2023-09-16/
LOCATION:Jack O’ Club Restaurant & Pub\, 12383 Hwy 27 E.\, Wells\, BC\, V0K2R0\, Canada
CATEGORIES:19+,Music,Wells
ATTACH;FMTTYPE=image/jpeg:https://whatsupinwells.com/wp-content/uploads/2023/07/karaokee.jpg
END:VEVENT
BEGIN:VEVENT
DTSTART;TZID=America/Vancouver:20230805T210000
DTEND;TZID=America/Vancouver:20230806T020000
DTSTAMP:20260421T202000
CREATED:20230730T214902Z
LAST-MODIFIED:20230730T214902Z
UID:10001344-1691269200-1691287200@whatsupinwells.com
SUMMARY:Karaoke Night
DESCRIPTION:Every Saturday from 9 pm to 2 am
URL:https://whatsupinwells.com/event/karaoke-night-2/
LOCATION:Jack O’ Club Restaurant & Pub\, 12383 Hwy 27 E.\, Wells\, BC\, V0K2R0\, Canada
CATEGORIES:19+,Music,Wells
ATTACH;FMTTYPE=image/jpeg:https://whatsupinwells.com/wp-content/uploads/2023/07/karaokee.jpg
END:VEVENT
BEGIN:VEVENT
DTSTART;TZID=America/Vancouver:20221217T170000
DTEND;TZID=America/Vancouver:20221217T233000
DTSTAMP:20260421T202000
CREATED:20221123T032643Z
LAST-MODIFIED:20221123T035220Z
UID:10000716-1671296400-1671319800@whatsupinwells.com
SUMMARY:The Jack's Ugly Christmas Sweater Party
DESCRIPTION: music  food & drink specials\nPrizes for the ugliest sweater\nChristmas karaoke 
URL:https://whatsupinwells.com/event/the-jacks-ugly-christmas-sweater-party/
LOCATION:Jack O’ Club Restaurant & Pub\, 12383 Hwy 27 E.\, Wells\, BC\, V0K2R0\, Canada
CATEGORIES:19+,Music,Wells
END:VEVENT
BEGIN:VEVENT
DTSTART;TZID=America/Vancouver:20220927T160000
DTEND;TZID=America/Vancouver:20220927T180000
DTSTAMP:20260421T202000
CREATED:20220926T233052Z
LAST-MODIFIED:20220926T233052Z
UID:10000703-1664294400-1664301600@whatsupinwells.com
SUMMARY:Barkerville Brewery tasting
DESCRIPTION:Barkerville Brewery will be hosting a beer sampling at the Jack O Clubs pub. Appies will be made in house by our cooks with the added flavours of select Barkerville Brewery beers.
URL:https://whatsupinwells.com/event/barkerville-brewery-tasting/
LOCATION:Jack O’ Club Restaurant & Pub\, 12383 Hwy 27 E.\, Wells\, BC\, V0K2R0\, Canada
CATEGORIES:19+,Food,Wells
ATTACH;FMTTYPE=image/jpeg:https://whatsupinwells.com/wp-content/uploads/2022/09/bville-brewery-tasting.jpg
END:VEVENT
BEGIN:VEVENT
DTSTART;TZID=America/Vancouver:20220903T210000
DTEND;TZID=America/Vancouver:20220903T233000
DTSTAMP:20260421T202000
CREATED:20220903T205232Z
LAST-MODIFIED:20220903T205232Z
UID:10000694-1662238800-1662247800@whatsupinwells.com
SUMMARY:Karaoke Night
DESCRIPTION:It’s Saturday night karaoke!!! Drink specials & appie hour\nStay late enough & you might catch the Disney power hour  it’s our Sophie’s favourite hour 
URL:https://whatsupinwells.com/event/karaoke-night/
LOCATION:Jack O’ Club Restaurant & Pub\, 12383 Hwy 27 E.\, Wells\, BC\, V0K2R0\, Canada
CATEGORIES:19+,Music,Wells
ATTACH;FMTTYPE=image/jpeg:https://whatsupinwells.com/wp-content/uploads/2022/09/karaoke.jpg
END:VEVENT
BEGIN:VEVENT
DTSTART;TZID=America/Vancouver:20220527T200000
DTEND;TZID=America/Vancouver:20220527T220000
DTSTAMP:20260421T202000
CREATED:20220527T014919Z
LAST-MODIFIED:20220527T014919Z
UID:10000555-1653681600-1653688800@whatsupinwells.com
SUMMARY:Sean Le Sage Live
DESCRIPTION:The Jack welcomes back the musical talents of Sean Le Sage to the stage live Friday night \nBy donation\, music starts @ 8pm
URL:https://whatsupinwells.com/event/sean-le-sage-live/
LOCATION:Jack O’ Club Restaurant & Pub\, 12383 Hwy 27 E.\, Wells\, BC\, V0K2R0\, Canada
CATEGORIES:19+,Music,Wells
ATTACH;FMTTYPE=image/jpeg:https://whatsupinwells.com/wp-content/uploads/2022/05/284232217_5088964491188908_817975183762931005_n.jpg
END:VEVENT
BEGIN:VEVENT
DTSTART;TZID=America/Vancouver:20211230T200000
DTEND;TZID=America/Vancouver:20211230T220000
DTSTAMP:20260421T202000
CREATED:20211201T005211Z
LAST-MODIFIED:20211201T005211Z
UID:10000507-1640894400-1640901600@whatsupinwells.com
SUMMARY:You Don't Know Jack Trivia Night
DESCRIPTION:Come down for dinner & stay for some laughs
URL:https://whatsupinwells.com/event/you-dont-know-jack-trivia-night/2021-12-30/
LOCATION:Jack O’ Club Restaurant & Pub\, 12383 Hwy 27 E.\, Wells\, BC\, V0K2R0\, Canada
CATEGORIES:19+,Free,Wells
ATTACH;FMTTYPE=image/jpeg:https://whatsupinwells.com/wp-content/uploads/2021/11/you-dont-know-jack.jpg
END:VEVENT
BEGIN:VEVENT
DTSTART;TZID=America/Vancouver:20211223T200000
DTEND;TZID=America/Vancouver:20211223T220000
DTSTAMP:20260421T202000
CREATED:20211201T005211Z
LAST-MODIFIED:20211201T005211Z
UID:10000506-1640289600-1640296800@whatsupinwells.com
SUMMARY:You Don't Know Jack Trivia Night
DESCRIPTION:Come down for dinner & stay for some laughs
URL:https://whatsupinwells.com/event/you-dont-know-jack-trivia-night/2021-12-23/
LOCATION:Jack O’ Club Restaurant & Pub\, 12383 Hwy 27 E.\, Wells\, BC\, V0K2R0\, Canada
CATEGORIES:19+,Free,Wells
ATTACH;FMTTYPE=image/jpeg:https://whatsupinwells.com/wp-content/uploads/2021/11/you-dont-know-jack.jpg
END:VEVENT
BEGIN:VEVENT
DTSTART;TZID=America/Vancouver:20211216T200000
DTEND;TZID=America/Vancouver:20211216T220000
DTSTAMP:20260421T202000
CREATED:20211201T005211Z
LAST-MODIFIED:20211201T005211Z
UID:10000505-1639684800-1639692000@whatsupinwells.com
SUMMARY:You Don't Know Jack Trivia Night
DESCRIPTION:Come down for dinner & stay for some laughs
URL:https://whatsupinwells.com/event/you-dont-know-jack-trivia-night/2021-12-16/
LOCATION:Jack O’ Club Restaurant & Pub\, 12383 Hwy 27 E.\, Wells\, BC\, V0K2R0\, Canada
CATEGORIES:19+,Free,Wells
ATTACH;FMTTYPE=image/jpeg:https://whatsupinwells.com/wp-content/uploads/2021/11/you-dont-know-jack.jpg
END:VEVENT
BEGIN:VEVENT
DTSTART;TZID=America/Vancouver:20211209T200000
DTEND;TZID=America/Vancouver:20211209T220000
DTSTAMP:20260421T202000
CREATED:20211201T005211Z
LAST-MODIFIED:20211201T005211Z
UID:10000504-1639080000-1639087200@whatsupinwells.com
SUMMARY:You Don't Know Jack Trivia Night
DESCRIPTION:Come down for dinner & stay for some laughs
URL:https://whatsupinwells.com/event/you-dont-know-jack-trivia-night/2021-12-09/
LOCATION:Jack O’ Club Restaurant & Pub\, 12383 Hwy 27 E.\, Wells\, BC\, V0K2R0\, Canada
CATEGORIES:19+,Free,Wells
ATTACH;FMTTYPE=image/jpeg:https://whatsupinwells.com/wp-content/uploads/2021/11/you-dont-know-jack.jpg
END:VEVENT
BEGIN:VEVENT
DTSTART;TZID=America/Vancouver:20211202T200000
DTEND;TZID=America/Vancouver:20211202T220000
DTSTAMP:20260421T202000
CREATED:20211201T005211Z
LAST-MODIFIED:20211201T005211Z
UID:10000503-1638475200-1638482400@whatsupinwells.com
SUMMARY:You Don't Know Jack Trivia Night
DESCRIPTION:Come down for dinner & stay for some laughs
URL:https://whatsupinwells.com/event/you-dont-know-jack-trivia-night/2021-12-02/
LOCATION:Jack O’ Club Restaurant & Pub\, 12383 Hwy 27 E.\, Wells\, BC\, V0K2R0\, Canada
CATEGORIES:19+,Free,Wells
ATTACH;FMTTYPE=image/jpeg:https://whatsupinwells.com/wp-content/uploads/2021/11/you-dont-know-jack.jpg
END:VEVENT
BEGIN:VEVENT
DTSTART;TZID=America/Vancouver:20211031T200000
DTEND;TZID=America/Vancouver:20211031T220000
DTSTAMP:20260421T202000
CREATED:20211028T023416Z
LAST-MODIFIED:20211028T023416Z
UID:10000486-1635710400-1635717600@whatsupinwells.com
SUMMARY:Hallow-Wells Night
DESCRIPTION:DJ Two Feathers
URL:https://whatsupinwells.com/event/hallow-wells-night/
LOCATION:Jack O’ Club Restaurant & Pub\, 12383 Hwy 27 E.\, Wells\, BC\, V0K2R0\, Canada
CATEGORIES:19+,Music,Wells
ATTACH;FMTTYPE=image/jpeg:https://whatsupinwells.com/wp-content/uploads/2021/10/Hallow-wells-night.jpg
END:VEVENT
BEGIN:VEVENT
DTSTART;TZID=America/Vancouver:20200214T160000
DTEND;TZID=America/Vancouver:20200215T020000
DTSTAMP:20260421T202000
CREATED:20200202T155827Z
LAST-MODIFIED:20200202T160005Z
UID:10000409-1581696000-1581732000@whatsupinwells.com
SUMMARY:Casualties Of The Heart\, A Night Of Comedy
DESCRIPTION:In love?…. Broken hearted?…. First date?\nWe have the Valentine’s Event for you!! \nDinner 4:00pm – 8:00pm (kid friendly)\nShow 8:00pm (perhaps we leave the kiddos at home for this) \nDinner Features for $22.00 include; \nTop Sirloin Steak and Prawns served with Baked Potato and Roasted Veggies. \nStuffed Chicken with Hollandaise served with Rice Pilaf Roasted Veggies. \nThe full regular Menu will also be available
URL:https://whatsupinwells.com/event/casualties-of-the-heart-a-night-of-comedy/
LOCATION:Jack O’ Club Restaurant & Pub\, 12383 Hwy 27 E.\, Wells\, BC\, V0K2R0\, Canada
CATEGORIES:Food,Theatre,Wells
ATTACH;FMTTYPE=image/jpeg:https://whatsupinwells.com/wp-content/uploads/2020/02/casualties-of-the-heart-1.jpg
END:VEVENT
END:VCALENDAR